Workbook

Sheet Tournament Women Division
C1: Total Pins Tournaments 1-6 | I1: Total | J1: Total Points Tournamnet 1-6 | P1: Total | Q1: Best 4 Pins | R1: Best 2 Pins | S1: Best 3 Pins | T1: Best/Pts Pins | U1: Best 4 Points | V1: Total Points | W1: Tourn. Avg.
B2: Name | C2: 1 | D2: 2 | E2: 3 | F2: 4 | G2: 5 | H2: 6 | I2: Pins | J2: 1 | K2: 2 | L2: 3 | M2: 4 | N2: 5 | O2: 6 | P2: Pts.
A3: 1 | B3: Jennifer Baker | C3: =VLOOKUP($B3,'Womens Master'!$A$2:$G$20,2,FALSE) -> 2220 | D3: =VLOOKUP($B3,'Womens Master'!$A$2:$G$20,3,FALSE) -> 1965 | E3: =VLOOKUP($B3,'Womens Master'!$A$2:$G$20,4,FALSE) -> 2414 | F3: =VLOOKUP($B3,'Womens Master'!$A$2:$G$20,5,FALSE) -> 1925 | G3: =VLOOKUP($B3,'Womens Master'!$A$2:$G$20,6,FALSE) -> 2127 | H3: =VLOOKUP($B3,'Womens Master'!$A$2:$G$20,7,FALSE) -> 2071 | I3: =SUM(C3:H3) -> 12722 | J3: 15 | K3: 9 | L3: 15 | M3: 10 | N3: 13 | O3: 13 | P3: =SUM(J3:O3) -> 75 | Q3: {=SUMPRODUCT(LARGE(C3:H3,{1,2,3,4}))} -> 8832 | R3: {=SUMPRODUCT(LARGE(C3:H3,{1,2}))} -> 4634 | S3: {=SUMPRODUCT(LARGE(C3:H3,{1,2,3}))} -> 6761 | T3: 15 | U3: {=SUMPRODUCT(LARGE(J3:O3,{1,2,3,4}))} -> 56 | V3: =U3+T3 -> 71 | W3: =AVERAGE(C3:H3)/8 -> 265.04167 | X3: Singles Based on Points
A4: 2 | B4: Jenna Lamoureaux | C4: =VLOOKUP($B4,'Womens Master'!$A$2:$G$20,2,FALSE) -> 2117 | D4: =VLOOKUP($B4,'Womens Master'!$A$2:$G$20,3,FALSE) -> 2057 | E4: =VLOOKUP($B4,'Womens Master'!$A$2:$G$20,4,FALSE) -> 2176 | F4: =VLOOKUP($B4,'Womens Master'!$A$2:$G$20,5,FALSE) -> 1898 | G4: =VLOOKUP($B4,'Womens Master'!$A$2:$G$20,6,FALSE) -> 2002 | H4: =VLOOKUP($B4,'Womens Master'!$A$2:$G$20,7,FALSE) -> 2184 | I4: =SUM(C4:H4) -> 12434 | J4: 13 | K4: 15 | L4: 12 | M4: 8 | N4: 6 | O4: 14 | P4: =SUM(J4:O4) -> 68 | Q4: {=SUMPRODUCT(LARGE(C4:H4,{1,2,3,4}))} -> 8534 | R4: {=SUMPRODUCT(LARGE(C4:H4,{1,2}))} -> 4360 | S4: {=SUMPRODUCT(LARGE(C4:H4,{1,2,3}))} -> 6477 | T4: 14 | U4: {=SUMPRODUCT(LARGE(J4:O4,{1,2,3,4}))} -> 54 | V4: =U4+T4 -> 68 | W4: =AVERAGE(C4:H4)/8 -> 259.04167 | X4: Team Based on Pinfall
A5: 3 | B5: Katie Rayner | C5: =VLOOKUP($B5,'Womens Master'!$A$2:$G$20,2,FALSE) -> 2216 | D5: =VLOOKUP($B5,'Womens Master'!$A$2:$G$20,3,FALSE) -> 2021 | E5: =VLOOKUP($B5,'Womens Master'!$A$2:$G$20,4,FALSE) -> 1963 | F5: =VLOOKUP($B5,'Womens Master'!$A$2:$G$20,5,FALSE) -> 1955 | G5: =VLOOKUP($B5,'Womens Master'!$A$2:$G$20,6,FALSE) -> 1848 | H5: =VLOOKUP($B5,'Womens Master'!$A$2:$G$20,7,FALSE) -> 2228 | I5: =SUM(C5:H5) -> 12231 | J5: 14 | K5: 12 | L5: 5 | M5: 11 | N5: 3 | O5: 15 | P5: =SUM(J5:O5) -> 60 | Q5: {=SUMPRODUCT(LARGE(C5:H5,{1,2,3,4}))} -> 8428 | R5: {=SUMPRODUCT(LARGE(C5:H5,{1,2}))} -> 4444 | S5: {=SUMPRODUCT(LARGE(C5:H5,{1,2,3}))} -> 6465 | T5: 13 | U5: {=SUMPRODUCT(LARGE(J5:O5,{1,2,3,4}))} -> 52 | V5: =U5+T5 -> 65 | W5: =AVERAGE(C5:H5)/8 -> 254.8125 | X5: Team Based on Pinfall
A6: 4 | B6: Bonnie McDonald | C6: =VLOOKUP($B6,'Womens Master'!$A$2:$G$20,2,FALSE) -> 2003 | D6: =VLOOKUP($B6,'Womens Master'!$A$2:$G$20,3,FALSE) -> 1937 | E6: =VLOOKUP($B6,'Womens Master'!$A$2:$G$20,4,FALSE) -> 2094 | F6: =VLOOKUP($B6,'Womens Master'!$A$2:$G$20,5,FALSE) -> 1961 | G6: =VLOOKUP($B6,'Womens Master'!$A$2:$G$20,6,FALSE) -> 2277 | H6: =VLOOKUP($B6,'Womens Master'!$A$2:$G$20,7,FALSE) -> 1826 | I6: =SUM(C6:H6) -> 12098 | J6: 6.5 | K6: 6 | L6: 10 | M6: 12 | N6: 15 | O6: 7 | P6: =SUM(J6:O6) -> 56.5 | Q6: {=SUMPRODUCT(LARGE(C6:H6,{1,2,3,4}))} -> 8335 | R6: {=SUMPRODUCT(LARGE(C6:H6,{1,2}))} -> 4371 | S6: {=SUMPRODUCT(LARGE(C6:H6,{1,2,3}))} -> 6374 | T6: 12 | U6: {=SUMPRODUCT(LARGE(J6:O6,{1,2,3,4}))} -> 44 | V6: =U6+T6 -> 56 | W6: =AVERAGE(C6:H6)/8 -> 252.04167 | X6: Team Based on Pinfall
A7: 5 | B7: Heidi Mapstone | C7: =VLOOKUP($B7,'Womens Master'!$A$2:$G$20,2,FALSE) -> 1992 | D7: =VLOOKUP($B7,'Womens Master'!$A$2:$G$20,3,FALSE) -> 1947 | E7: =VLOOKUP($B7,'Womens Master'!$A$2:$G$20,4,FALSE) -> 1956 | F7: =VLOOKUP($B7,'Womens Master'!$A$2:$G$20,5,FALSE) -> 2048 | G7: =VLOOKUP($B7,'Womens Master'!$A$2:$G$20,6,FALSE) -> 2251 | H7: =VLOOKUP($B7,'Womens Master'!$A$2:$G$20,7,FALSE) -> 2016 | I7: =SUM(C7:H7) -> 12210 | J7: 5 | K7: 7 | L7: 4 | M7: 14 | N7: 14 | O7: 12 | P7: =SUM(J7:O7) -> 56 | Q7: {=SUMPRODUCT(LARGE(C7:H7,{1,2,3,4}))} -> 8307 | R7: {=SUMPRODUCT(LARGE(C7:H7,{1,2}))} -> 4299 | S7: {=SUMPRODUCT(LARGE(C7:H7,{1,2,3}))} -> 6315 | T7: 11 | U7: {=SUMPRODUCT(LARGE(J7:O7,{1,2,3,4}))} -> 47 | V7: =U7+T7 -> 58 | W7: =AVERAGE(C7:H7)/8 -> 254.375 | X7: Team Based on Pinfall
A8: 6 | B8: Christine Pocza | C8: =VLOOKUP($B8,'Womens Master'!$A$2:$G$20,2,FALSE) -> 2006 | D8: =VLOOKUP($B8,'Womens Master'!$A$2:$G$20,3,FALSE) -> 1948 | E8: =VLOOKUP($B8,'Womens Master'!$A$2:$G$20,4,FALSE) -> 2203 | F8: =VLOOKUP($B8,'Womens Master'!$A$2:$G$20,5,FALSE) -> 1905 | G8: =VLOOKUP($B8,'Womens Master'!$A$2:$G$20,6,FALSE) -> 2018 | H8: =VLOOKUP($B8,'Womens Master'!$A$2:$G$20,7,FALSE) -> 1947 | I8: =SUM(C8:H8) -> 12027 | J8: 9 | K8: 8 | L8: 13 | M8: 9 | N8: 9 | O8: 10 | P8: =SUM(J8:O8) -> 58 | Q8: {=SUMPRODUCT(LARGE(C8:H8,{1,2,3,4}))} -> 8175 | R8: {=SUMPRODUCT(LARGE(C8:H8,{1,2}))} -> 4221 | S8: {=SUMPRODUCT(LARGE(C8:H8,{1,2,3}))} -> 6227 | T8: 10 | U8: {=SUMPRODUCT(LARGE(J8:O8,{1,2,3,4}))} -> 41 | V8: =U8+T8 -> 51 | W8: =AVERAGE(C8:H8)/8 -> 250.5625 | X8: Team Based on Pinfall
A9: 7 | B9: Tracy Smith | C9: =VLOOKUP($B9,'Womens Master'!$A$2:$G$20,2,FALSE) -> 1920 | D9: =VLOOKUP($B9,'Womens Master'!$A$2:$G$20,3,FALSE) -> 1934 | E9: =VLOOKUP($B9,'Womens Master'!$A$2:$G$20,4,FALSE) -> 2215 | F9: =VLOOKUP($B9,'Womens Master'!$A$2:$G$20,5,FALSE) -> 1669 | G9: =VLOOKUP($B9,'Womens Master'!$A$2:$G$20,6,FALSE) -> 2059 | H9: =VLOOKUP($B9,'Womens Master'!$A$2:$G$20,7,FALSE) -> 1879 | I9: =SUM(C9:H9) -> 11676 | J9: 2 | K9: 4 | L9: 14 | M9: 0 | N9: 12 | O9: 8 | P9: =SUM(J9:O9) -> 40 | Q9: {=SUMPRODUCT(LARGE(C9:H9,{1,2,3,4}))} -> 8128 | R9: {=SUMPRODUCT(LARGE(C9:H9,{1,2}))} -> 4274 | S9: {=SUMPRODUCT(LARGE(C9:H9,{1,2,3}))} -> 6208 | T9: 9 | U9: {=SUMPRODUCT(LARGE(J9:O9,{1,2,3,4}))} -> 38 | V9: =U9+T9 -> 47 | W9: =AVERAGE(C9:H9)/8 -> 243.25
A10: 8 | B10: Brittnee Lakusta | C10: =VLOOKUP($B10,'Womens Master'!$A$2:$G$20,2,FALSE) -> 1952 | D10: =VLOOKUP($B10,'Womens Master'!$A$2:$G$20,3,FALSE) -> 2004 | E10: =VLOOKUP($B10,'Womens Master'!$A$2:$G$20,4,FALSE) -> 2159 | F10: =VLOOKUP($B10,'Womens Master'!$A$2:$G$20,5,FALSE) -> 1755 | G10: =VLOOKUP($B10,'Womens Master'!$A$2:$G$20,6,FALSE) -> 1833 | H10: =VLOOKUP($B10,'Womens Master'!$A$2:$G$20,7,FALSE) -> 2010 | I10: =SUM(C10:H10) -> 11713 | J10: 3 | K10: 11 | L10: 11 | M10: 1 | N10: 2 | O10: 11 | P10: =SUM(J10:O10) -> 39 | Q10: {=SUMPRODUCT(LARGE(C10:H10,{1,2,3,4}))} -> 8125 | R10: {=SUMPRODUCT(LARGE(C10:H10,{1,2}))} -> 4169 | S10: {=SUMPRODUCT(LARGE(C10:H10,{1,2,3}))} -> 6173 | T10: 8 | U10: {=SUMPRODUCT(LARGE(J10:O10,{1,2,3,4}))} -> 36 | V10: =U10+T10 -> 44 | W10: =AVERAGE(C10:H10)/8 -> 244.02083
A11: 9 | B11: Jennifer Smith | C11: =VLOOKUP($B11,'Womens Master'!$A$2:$G$20,2,FALSE) -> 2080 | D11: =VLOOKUP($B11,'Womens Master'!$A$2:$G$20,3,FALSE) -> 1935 | E11: =VLOOKUP($B11,'Womens Master'!$A$2:$G$20,4,FALSE) -> 1993 | F11: =VLOOKUP($B11,'Womens Master'!$A$2:$G$20,5,FALSE) -> 1991 | G11: =VLOOKUP($B11,'Womens Master'!$A$2:$G$20,6,FALSE) -> 2034 | H11: =VLOOKUP($B11,'Womens Master'!$A$2:$G$20,7,FALSE) -> 1792 | I11: =SUM(C11:H11) -> 11825 | J11: 12 | K11: 5 | L11: 7 | M11: 13 | N11: 10 | O11: 6 | P11: =SUM(J11:O11) -> 53 | Q11: {=SUMPRODUCT(LARGE(C11:H11,{1,2,3,4}))} -> 8098 | R11: {=SUMPRODUCT(LARGE(C11:H11,{1,2}))} -> 4114 | S11: {=SUMPRODUCT(LARGE(C11:H11,{1,2,3}))} -> 6107 | T11: 7 | U11: {=SUMPRODUCT(LARGE(J11:O11,{1,2,3,4}))} -> 42 | V11: =U11+T11 -> 49 | W11: =AVERAGE(C11:H11)/8 -> 246.35417
A12: 10 | B12: Diane Violini | C12: =VLOOKUP($B12,'Womens Master'!$A$2:$G$20,2,FALSE) -> 2005 | D12: =VLOOKUP($B12,'Womens Master'!$A$2:$G$20,3,FALSE) -> 1932 | E12: =VLOOKUP($B12,'Womens Master'!$A$2:$G$20,4,FALSE) -> 1983 | F12: =VLOOKUP($B12,'Womens Master'!$A$2:$G$20,5,FALSE) -> 2140 | G12: =VLOOKUP($B12,'Womens Master'!$A$2:$G$20,6,FALSE) -> 1949 | H12: =VLOOKUP($B12,'Womens Master'!$A$2:$G$20,7,FALSE) -> 1774 | I12: =SUM(C12:H12) -> 11783 | J12: 8 | K12: 3 | L12: 6 | M12: 15 | N12: 5 | O12: 4 | P12: =SUM(J12:O12) -> 41 | Q12: {=SUMPRODUCT(LARGE(C12:H12,{1,2,3,4}))} -> 8077 | R12: {=SUMPRODUCT(LARGE(C12:H12,{1,2}))} -> 4145 | S12: {=SUMPRODUCT(LARGE(C12:H12,{1,2,3}))} -> 6128 | T12: 6 | U12: {=SUMPRODUCT(LARGE(J12:O12,{1,2,3,4}))} -> 34 | V12: =U12+T12 -> 40 | W12: =AVERAGE(C12:H12)/8 -> 245.47917
A13: 11 | B13: Jerilee Medus | C13: =VLOOKUP($B13,'Womens Master'!$A$2:$G$20,2,FALSE) -> 2007 | D13: =VLOOKUP($B13,'Womens Master'!$A$2:$G$20,3,FALSE) -> 2000 | E13: =VLOOKUP($B13,'Womens Master'!$A$2:$G$20,4,FALSE) -> 2052 | F13: =VLOOKUP($B13,'Womens Master'!$A$2:$G$20,5,FALSE) -> 1890 | G13: =VLOOKUP($B13,'Womens Master'!$A$2:$G$20,6,FALSE) -> 1902 | H13: =VLOOKUP($B13,'Womens Master'!$A$2:$G$20,7,FALSE) -> 1941 | I13: =SUM(C13:H13) -> 11792 | J13: 10 | K13: 10 | L13: 9 | M13: 7 | N13: 4 | O13: 9 | P13: =SUM(J13:O13) -> 49 | Q13: {=SUMPRODUCT(LARGE(C13:H13,{1,2,3,4}))} -> 8000 | R13: {=SUMPRODUCT(LARGE(C13:H13,{1,2}))} -> 4059 | S13: {=SUMPRODUCT(LARGE(C13:H13,{1,2,3}))} -> 6059 | T13: 5 | U13: {=SUMPRODUCT(LARGE(J13:O13,{1,2,3,4}))} -> 38 | V13: =U13+T13 -> 43 | W13: =AVERAGE(C13:H13)/8 -> 245.66667
A14: 12 | B14: Michelle Manton | C14: =VLOOKUP($B14,'Womens Master'!$A$2:$G$20,2,FALSE) -> 2003 | D14: =VLOOKUP($B14,'Womens Master'!$A$2:$G$20,3,FALSE) -> 2043 | E14: =VLOOKUP($B14,'Womens Master'!$A$2:$G$20,4,FALSE) -> 1869 | F14: =VLOOKUP($B14,'Womens Master'!$A$2:$G$20,5,FALSE) -> 1837 | G14: =VLOOKUP($B14,'Womens Master'!$A$2:$G$20,6,FALSE) -> 2012 | H14: =VLOOKUP($B14,'Womens Master'!$A$2:$G$20,7,FALSE) -> 1780 | I14: =SUM(C14:H14) -> 11544 | J14: 6.5 | K14: 14 | L14: 2 | M14: 3 | N14: 8 | O14: 5 | P14: =SUM(J14:O14) -> 38.5 | Q14: {=SUMPRODUCT(LARGE(C14:H14,{1,2,3,4}))} -> 7927 | R14: {=SUMPRODUCT(LARGE(C14:H14,{1,2}))} -> 4055 | S14: {=SUMPRODUCT(LARGE(C14:H14,{1,2,3}))} -> 6058 | T14: 4 | U14: {=SUMPRODUCT(LARGE(J14:O14,{1,2,3,4}))} -> 33.5 | V14: =U14+T14 -> 37.5 | W14: =AVERAGE(C14:H14)/8 -> 240.5
A15: 13 | B15: Kelsy Wilton | C15: =VLOOKUP($B15,'Womens Master'!$A$2:$G$20,2,FALSE) -> 1793 | D15: =VLOOKUP($B15,'Womens Master'!$A$2:$G$20,3,FALSE) -> 2042 | E15: =VLOOKUP($B15,'Womens Master'!$A$2:$G$20,4,FALSE) -> 1845 | F15: =VLOOKUP($B15,'Womens Master'!$A$2:$G$20,5,FALSE) -> 1858 | G15: =VLOOKUP($B15,'Womens Master'!$A$2:$G$20,6,FALSE) -> 2059 | H15: =VLOOKUP($B15,'Womens Master'!$A$2:$G$20,7,FALSE) -> 1728 | I15: =SUM(C15:H15) -> 11325 | J15: 0 | K15: 13 | L15: 1 | M15: 5 | N15: 11 | O15: 1 | P15: =SUM(J15:O15) -> 31 | Q15: {=SUMPRODUCT(LARGE(C15:H15,{1,2,3,4}))} -> 7804 | R15: {=SUMPRODUCT(LARGE(C15:H15,{1,2}))} -> 4101 | S15: {=SUMPRODUCT(LARGE(C15:H15,{1,2,3}))} -> 5959 | T15: 3 | U15: {=SUMPRODUCT(LARGE(J15:O15,{1,2,3,4}))} -> 30 | V15: =U15+T15 -> 33 | W15: =AVERAGE(C15:H15)/8 -> 235.9375
A16: 14 | B16: Bev Magnus | C16: =VLOOKUP($B16,'Womens Master'!$A$2:$G$20,2,FALSE) -> 2079 | D16: =VLOOKUP($B16,'Womens Master'!$A$2:$G$20,3,FALSE) -> 1899 | E16: =VLOOKUP($B16,'Womens Master'!$A$2:$G$20,4,FALSE) -> 1926 | F16: =VLOOKUP($B16,'Womens Master'!$A$2:$G$20,5,FALSE) -> 1847 | G16: =VLOOKUP($B16,'Womens Master'!$A$2:$G$20,6,FALSE) -> 0 | H16: =VLOOKUP($B16,'Womens Master'!$A$2:$G$20,7,FALSE) -> 0 | I16: =SUM(C16:H16) -> 7751 | J16: 11 | K16: 2 | L16: 3 | M16: 4 | P16: =SUM(J16:O16) -> 20 | Q16: {=SUMPRODUCT(LARGE(C16:H16,{1,2,3,4}))} -> 7751 | R16: {=SUMPRODUCT(LARGE(C16:H16,{1,2}))} -> 4005 | S16: {=SUMPRODUCT(LARGE(C16:H16,{1,2,3}))} -> 5904 | T16: 2 | U16: {=SUMPRODUCT(LARGE(J16:O16,{1,2,3,4}))} -> 20 | V16: =U16+T16 -> 22 | W16: =AVERAGE(C16:H16)/8 -> 161.47917
A17: 15 | B17: Ann-Marie Petersen | C17: =VLOOKUP($B17,'Womens Master'!$A$2:$G$20,2,FALSE) -> 1909 | D17: =VLOOKUP($B17,'Womens Master'!$A$2:$G$20,3,FALSE) -> 1718 | E17: =VLOOKUP($B17,'Womens Master'!$A$2:$G$20,4,FALSE) -> 2021 | F17: =VLOOKUP($B17,'Womens Master'!$A$2:$G$20,5,FALSE) -> 1886 | G17: =VLOOKUP($B17,'Womens Master'!$A$2:$G$20,6,FALSE) -> 0 | H17: =VLOOKUP($B17,'Womens Master'!$A$2:$G$20,7,FALSE) -> 0 | I17: =SUM(C17:H17) -> 7534 | J17: 1 | K17: 0 | L17: 8 | M17: 6 | P17: =SUM(J17:O17) -> 15 | Q17: {=SUMPRODUCT(LARGE(C17:H17,{1,2,3,4}))} -> 7534 | R17: {=SUMPRODUCT(LARGE(C17:H17,{1,2}))} -> 3930 | S17: {=SUMPRODUCT(LARGE(C17:H17,{1,2,3}))} -> 5816 | T17: 1 | U17: {=SUMPRODUCT(LARGE(J17:O17,{1,2,3,4}))} -> 15 | V17: =U17+T17 -> 16 | W17: =AVERAGE(C17:H17)/8 -> 156.95833
A18: 16 | B18: Jamie McAra | C18: =VLOOKUP($B18,'Womens Master'!$A$2:$G$20,2,FALSE) -> 1856 | D18: =VLOOKUP($B18,'Womens Master'!$A$2:$G$20,3,FALSE) -> 1863 | E18: =VLOOKUP($B18,'Womens Master'!$A$2:$G$20,4,FALSE) -> 1758 | F18: =VLOOKUP($B18,'Womens Master'!$A$2:$G$20,5,FALSE) -> 1725 | G18: =VLOOKUP($B18,'Womens Master'!$A$2:$G$20,6,FALSE) -> 2006 | H18: =VLOOKUP($B18,'Womens Master'!$A$2:$G$20,7,FALSE) -> 1762 | I18: =SUM(C18:H18) -> 10970 | J18: 0 | K18: 1 | L18: 0 | M18: 0 | N18: 7 | O18: 3 | P18: =SUM(J18:O18) -> 11 | Q18: {=SUMPRODUCT(LARGE(C18:H18,{1,2,3,4}))} -> 7487 | R18: {=SUMPRODUCT(LARGE(C18:H18,{1,2}))} -> 3869 | S18: {=SUMPRODUCT(LARGE(C18:H18,{1,2,3}))} -> 5725 | T18: 0 | U18: {=SUMPRODUCT(LARGE(J18:O18,{1,2,3,4}))} -> 11 | V18: =U18+T18 -> 11 | W18: =AVERAGE(C18:H18)/8 -> 228.54167
A19: 17 | B19: Pamela Wilson | C19: =VLOOKUP($B19,'Womens Master'!$A$2:$G$20,2,FALSE) -> 1960 | D19: =VLOOKUP($B19,'Womens Master'!$A$2:$G$20,3,FALSE) -> 1754 | E19: =VLOOKUP($B19,'Womens Master'!$A$2:$G$20,4,FALSE) -> 1790 | F19: =VLOOKUP($B19,'Womens Master'!$A$2:$G$20,5,FALSE) -> 1799 | G19: =VLOOKUP($B19,'Womens Master'!$A$2:$G$20,6,FALSE) -> 1920 | H19: =VLOOKUP($B19,'Womens Master'!$A$2:$G$20,7,FALSE) -> 0 | I19: =SUM(C19:H19) -> 9223 | J19: 4 | K19: 0 | L19: 0 | M19: 2 | P19: =SUM(J19:O19) -> 6 | Q19: {=SUMPRODUCT(LARGE(C19:H19,{1,2,3,4}))} -> 7469 | R19: {=SUMPRODUCT(LARGE(C19:H19,{1,2}))} -> 3880 | S19: {=SUMPRODUCT(LARGE(C19:H19,{1,2,3}))} -> 5679 | T19: 0 | U19: {=SUMPRODUCT(LARGE(J19:O19,{1,2,3,4}))} -> 6 | V19: =U19+T19 -> 6 | W19: =AVERAGE(C19:H19)/8 -> 192.14583
A20: 18 | B20: Tara Seitz | C20: =VLOOKUP($B20,'Womens Master'!$A$2:$G$20,2,FALSE) -> 1787 | D20: =VLOOKUP($B20,'Womens Master'!$A$2:$G$20,3,FALSE) -> 1657 | E20: =VLOOKUP($B20,'Womens Master'!$A$2:$G$20,4,FALSE) -> 0 | F20: =VLOOKUP($B20,'Womens Master'!$A$2:$G$20,5,FALSE) -> 0 | G20: =VLOOKUP($B20,'Womens Master'!$A$2:$G$20,6,FALSE) -> 1812 | H20: =VLOOKUP($B20,'Womens Master'!$A$2:$G$20,7,FALSE) -> 1748 | I20: =SUM(C20:H20) -> 7004 | J20: 0 | K20: 0 | O20: 2 | P20: =SUM(J20:O20) -> 2 | Q20: 0 | R20: {=SUMPRODUCT(LARGE(C20:H20,{1,2}))} -> 3599 | S20: {=SUMPRODUCT(LARGE(C20:H20,{1,2,3}))} -> 5347 | T20: 0 | U20: {=SUMPRODUCT(LARGE(J20:O20,{1,2,3,4}))} -> #NUM! | V20: 0 | W20: =AVERAGE(C20:H20)/8 -> 145.91667
A21: 19 | B21: Christine Wren | C21: =VLOOKUP($B21,'Womens Master'!$A$2:$G$20,2,FALSE) -> 1780 | D21: =VLOOKUP($B21,'Womens Master'!$A$2:$G$20,3,FALSE) -> 1749 | E21: =VLOOKUP($B21,'Womens Master'!$A$2:$G$20,4,FALSE) -> 0 | F21: =VLOOKUP($B21,'Womens Master'!$A$2:$G$20,5,FALSE) -> 0 | G21: =VLOOKUP($B21,'Womens Master'!$A$2:$G$20,6,FALSE) -> 0 | H21: =VLOOKUP($B21,'Womens Master'!$A$2:$G$20,7,FALSE) -> 0 | I21: =SUM(C21:H21) -> 3529 | J21: 0 | K21: 0 | P21: =SUM(J21:O21) -> 0 | Q21: 0 | R21: {=SUMPRODUCT(LARGE(C21:H21,{1,2}))} -> 3529 | S21: {=SUMPRODUCT(LARGE(C21:H21,{1,2,3}))} -> 3529 | T21: 0 | U21: {=SUMPRODUCT(LARGE(J21:O21,{1,2,3,4}))} -> #NUM! | V21: 0 | W21: =AVERAGE(C21:H21)/8 -> 73.520833

Sheet Womens Master
B1: 1 | C1: 2 | D1: 3 | E1: 4 | F1: 5 | G1: 6
A2: Katie Rayner | B2: 2216 | C2: 2021 | D2: 1963 | E2: 1955 | F2: 1848 | G2: 2228
A3: Jennifer Baker | B3: 2220 | C3: 1965 | D3: 2414 | E3: 1925 | F3: 2127 | G3: 2071
A4: Jenna Lamoureaux | B4: 2117 | C4: 2057 | D4: 2176 | E4: 1898 | F4: 2002 | G4: 2184
A5: Michelle Manton | B5: 2003 | C5: 2043 | D5: 1869 | E5: 1837 | F5: 2012 | G5: 1780
A6: Jennifer Smith | B6: 2080 | C6: 1935 | D6: 1993 | E6: 1991 | F6: 2034 | G6: 1792
A7: Jerilee Medus | B7: 2007 | C7: 2000 | D7: 2052 | E7: 1890 | F7: 1902 | G7: 1941
A8: Bev Magnus | B8: 2079 | C8: 1899 | D8: 1926 | E8: 1847
A9: Brittnee Lakusta | B9: 1952 | C9: 2004 | D9: 2159 | E9: 1755 | F9: 1833 | G9: 2010
A10: Christine Pocza | B10: 2006 | C10: 1948 | D10: 2203 | E10: 1905 | F10: 2018 | G10: 1947
A11: Bonnie McDonald | B11: 2003 | C11: 1937 | D11: 2094 | E11: 1961 | F11: 2277 | G11: 1826
A12: Heidi Mapstone | B12: 1992 | C12: 1947 | D12: 1956 | E12: 2048 | F12: 2251 | G12: 2016
A13: Diane Violini | B13: 2005 | C13: 1932 | D13: 1983 | E13: 2140 | F13: 1949 | G13: 1774
A14: Tracy Smith | B14: 1920 | C14: 1934 | D14: 2215 | E14: 1669 | F14: 2059 | G14: 1879
A15: Kelsy Wilton | B15: 1793 | C15: 2042 | D15: 1845 | E15: 1858 | F15: 2059 | G15: 1728
A16: Jamie McAra | B16: 1856 | C16: 1863 | D16: 1758 | E16: 1725 | F16: 2006 | G16: 1762
A17: Pamela Wilson | B17: 1960 | C17: 1754 | D17: 1790 | E17: 1799 | F17: 1920
A18: Ann-Marie Petersen | B18: 1909 | C18: 1718 | D18: 2021 | E18: 1886
A19: Christine Wren | B19: 1780 | C19: 1749
A20: Tara Seitz | B20: 1787 | C20: 1657 | F20: 1812 | G20: 1748

Sheet Tournament Men Division
C1: Total Pins Tournaments 1-6 | I1: Total | J1: Total Points Tournamnet 1-6 | P1: Total | Q1: Best 4 Pins | R1: Best 2 Pins | S1: Best 3 Pins | T1: Best/Pts Pins | U1: Best 4 Points | V1: Total Points | W1: Tourn. Avg.
A2: POS | B2: Name | C2: 1 | D2: 2 | E2: 3 | F2: 4 | G2: 5 | H2: 6 | I2: Pins | J2: 1 | K2: 2 | L2: 3 | M2: 4 | N2: 5 | O2: 6 | P2: Pts.
A3: 1 | B3: Bradly Tytgat | C3: =VLOOKUP($B3,'Mens Master'!$A$2:$G$26,2,FALSE) -> 2173 | D3: =VLOOKUP($B3,'Mens Master'!$A$2:$G$26,3,FALSE) -> 2222 | E3: =VLOOKUP($B3,'Mens Master'!$A$2:$G$25,4,FALSE) -> 2100 | F3: =VLOOKUP($B3,'Mens Master'!$A$2:$G$26,5,FALSE) -> 2242 | G3: =VLOOKUP($B3,'Mens Master'!$A$2:$G$25,6,FALSE) -> 2481 | H3: =VLOOKUP($B3,'Mens Master'!$A$2:$G$25,7,FALSE) -> 1988 | I3: =SUM(C3:H3) -> 13206 | J3: 22 | K3: 24 | L3: 24 | M3: 24 | N3: 25 | O3: 14 | P3: =SUM(J3:O3) -> 133 | Q3: {=SUMPRODUCT(LARGE(C3:H3,{1,2,3,4}))} -> 9118 | R3: {=SUMPRODUCT(LARGE(C3:H3,{1,2}))} -> 4723 | S3: {=SUMPRODUCT(LARGE(C3:H3,{1,2,3}))} -> 6945 | T3: 25 | U3: {=SUMPRODUCT(LARGE(J3:O3,{1,2,3,4}))} -> 97 | V3: =T3+U3 -> 122 | W3: =AVERAGE(C3:H3)/8 -> 275.125 | X3: Singles Based on Points
A4: 2 | B4: Tyler Tytgat | C4: =VLOOKUP($B4,'Mens Master'!$A$2:$G$25,2,FALSE) -> 2005 | D4: =VLOOKUP($B4,'Mens Master'!$A$2:$G$25,3,FALSE) -> 2317 | E4: =VLOOKUP($B4,'Mens Master'!$A$2:$G$25,4,FALSE) -> 2088 | F4: =VLOOKUP($B4,'Mens Master'!$A$2:$G$26,5,FALSE) -> 2265 | G4: =VLOOKUP($B4,'Mens Master'!$A$2:$G$25,6,FALSE) -> 2254 | H4: =VLOOKUP($B4,'Mens Master'!$A$2:$G$25,7,FALSE) -> 2177 | I4: =SUM(C4:H4) -> 13106 | J4: 10 | K4: 25 | L4: 23 | M4: 25 | N4: 20 | O4: 22 | P4: =SUM(J4:O4) -> 125 | Q4: {=SUMPRODUCT(LARGE(C4:H4,{1,2,3,4}))} -> 9013 | R4: {=SUMPRODUCT(LARGE(C4:H4,{1,2}))} -> 4582 | S4: {=SUMPRODUCT(LARGE(C4:H4,{1,2,3}))} -> 6836 | T4: 24 | U4: {=SUMPRODUCT(LARGE(J4:O4,{1,2,3,4}))} -> 95 | V4: =T4+U4 -> 119 | W4: =AVERAGE(C4:H4)/8 -> 273.04167 | X4: Teams Based on Pins
A5: 3 | B5: Adam Weber | C5: =VLOOKUP($B5,'Mens Master'!$A$2:$G$25,2,FALSE) -> 2324 | D5: =VLOOKUP($B5,'Mens Master'!$A$2:$G$25,3,FALSE) -> 2052 | E5: =VLOOKUP($B5,'Mens Master'!$A$2:$G$25,4,FALSE) -> 2126 | F5: =VLOOKUP($B5,'Mens Master'!$A$2:$G$26,5,FALSE) -> 2001 | G5: =VLOOKUP($B5,'Mens Master'!$A$2:$G$25,6,FALSE) -> 2370 | H5: =VLOOKUP($B5,'Mens Master'!$A$2:$G$25,7,FALSE) -> 2167 | I5: =SUM(C5:H5) -> 13040 | J5: 25 | K5: 16 | L5: 25 | M5: 13 | N5: 21 | O5: 21 | P5: =SUM(J5:O5) -> 121 | Q5: {=SUMPRODUCT(LARGE(C5:H5,{1,2,3,4}))} -> 8987 | R5: {=SUMPRODUCT(LARGE(C5:H5,{1,2}))} -> 4694 | S5: {=SUMPRODUCT(LARGE(C5:H5,{1,2,3}))} -> 6861 | T5: 23 | U5: {=SUMPRODUCT(LARGE(J5:O5,{1,2,3,4}))} -> 92 | V5: =T5+U5 -> 115 | W5: =AVERAGE(C5:H5)/8 -> 271.66667 | X5: Teams Based on Pins
A6: 4 | B6: Dexter Wiseman | C6: =VLOOKUP($B6,'Mens Master'!$A$2:$G$25,2,FALSE) -> 1938 | D6: =VLOOKUP($B6,'Mens Master'!$A$2:$G$25,3,FALSE) -> 2212 | E6: =VLOOKUP($B6,'Mens Master'!$A$2:$G$25,4,FALSE) -> 1684 | F6: =VLOOKUP($B6,'Mens Master'!$A$2:$G$26,5,FALSE) -> 2038 | G6: =VLOOKUP($B6,'Mens Master'!$A$2:$G$25,6,FALSE) -> 2241 | H6: =VLOOKUP($B6,'Mens Master'!$A$2:$G$25,7,FALSE) -> 2369 | I6: =SUM(C6:H6) -> 12482 | J6: 8 | K6: 22 | L6: 2 | M6: 17 | N6: 19 | O6: 25 | P6: =SUM(J6:O6) -> 93 | Q6: {=SUMPRODUCT(LARGE(C6:H6,{1,2,3,4}))} -> 8860 | R6: {=SUMPRODUCT(LARGE(C6:H6,{1,2}))} -> 4610 | S6: {=SUMPRODUCT(LARGE(C6:H6,{1,2,3}))} -> 6822 | T6: 22 | U6: {=SUMPRODUCT(LARGE(J6:O6,{1,2,3,4}))} -> 83 | V6: =T6+U6 -> 105 | W6: =AVERAGE(C6:H6)/8 -> 260.04167 | X6: Teams Based on Pins
A7: 5 | B7: Gary Baird | C7: =VLOOKUP($B7,'Mens Master'!$A$2:$G$25,2,FALSE) -> 2223 | D7: =VLOOKUP($B7,'Mens Master'!$A$2:$G$25,3,FALSE) -> 1972 | E7: =VLOOKUP($B7,'Mens Master'!$A$2:$G$25,4,FALSE) -> 1854 | F7: =VLOOKUP($B7,'Mens Master'!$A$2:$G$26,5,FALSE) -> 2062 | G7: =VLOOKUP($B7,'Mens Master'!$A$2:$G$25,6,FALSE) -> 2371 | H7: =VLOOKUP($B7,'Mens Master'!$A$2:$G$25,7,FALSE) -> 2143 | I7: =SUM(C7:H7) -> 12625 | J7: 23 | K7: 13 | L7: 9 | M7: 18 | N7: 22 | O7: 20 | P7: =SUM(J7:O7) -> 105 | Q7: {=SUMPRODUCT(LARGE(C7:H7,{1,2,3,4}))} -> 8799 | R7: {=SUMPRODUCT(LARGE(C7:H7,{1,2}))} -> 4594 | S7: {=SUMPRODUCT(LARGE(C7:H7,{1,2,3}))} -> 6737 | T7: 21 | U7: {=SUMPRODUCT(LARGE(J7:O7,{1,2,3,4}))} -> 83 | V7: =T7+U7 -> 104 | W7: =AVERAGE(C7:H7)/8 -> 263.02083 | X7: Teams Based on Pins
A8: 6 | B8: Karie Kreutz | C8: =VLOOKUP($B8,'Mens Master'!$A$2:$G$25,2,FALSE) -> 2142 | D8: =VLOOKUP($B8,'Mens Master'!$A$2:$G$25,3,FALSE) -> 1866 | E8: =VLOOKUP($B8,'Mens Master'!$A$2:$G$25,4,FALSE) -> 1947 | F8: =VLOOKUP($B8,'Mens Master'!$A$2:$G$26,5,FALSE) -> 2022 | G8: =VLOOKUP($B8,'Mens Master'!$A$2:$G$25,6,FALSE) -> 2393 | H8: =VLOOKUP($B8,'Mens Master'!$A$2:$G$25,7,FALSE) -> 2237 | I8: =SUM(C8:H8) -> 12607 | J8: 17 | K8: 5 | L8: 17 | M8: 15 | N8: 23 | O8: 23 | P8: =SUM(J8:O8) -> 100 | Q8: {=SUMPRODUCT(LARGE(C8:H8,{1,2,3,4}))} -> 8794 | R8: {=SUMPRODUCT(LARGE(C8:H8,{1,2}))} -> 4630 | S8: {=SUMPRODUCT(LARGE(C8:H8,{1,2,3}))} -> 6772 | T8: 20 | U8: {=SUMPRODUCT(LARGE(J8:O8,{1,2,3,4}))} -> 80 | V8: =T8+U8 -> 100 | W8: =AVERAGE(C8:H8)/8 -> 262.64583 | X8: Teams Based on Pins
A9: 7 | B9: Matt Schultz | C9: =VLOOKUP($B9,'Mens Master'!$A$2:$G$25,2,FALSE) -> 2155 | D9: =VLOOKUP($B9,'Mens Master'!$A$2:$G$25,3,FALSE) -> 2218 | E9: =VLOOKUP($B9,'Mens Master'!$A$2:$G$25,4,FALSE) -> 1874 | F9: =VLOOKUP($B9,'Mens Master'!$A$2:$G$26,5,FALSE) -> 2220 | G9: =VLOOKUP($B9,'Mens Master'!$A$2:$G$25,6,FALSE) -> 2000 | H9: =VLOOKUP($B9,'Mens Master'!$A$2:$G$25,7,FALSE) -> 2125 | I9: =SUM(C9:H9) -> 12592 | J9: 19 | K9: 23 | L9: 10 | M9: 23 | N9: 10 | O9: 19 | P9: =SUM(J9:O9) -> 104 | Q9: {=SUMPRODUCT(LARGE(C9:H9,{1,2,3,4}))} -> 8718 | R9: {=SUMPRODUCT(LARGE(C9:H9,{1,2}))} -> 4438 | S9: {=SUMPRODUCT(LARGE(C9:H9,{1,2,3}))} -> 6593 | T9: 19 | U9: {=SUMPRODUCT(LARGE(J9:O9,{1,2,3,4}))} -> 84 | V9: =T9+U9 -> 103 | W9: =AVERAGE(C9:H9)/8 -> 262.33333
A10: 8 | B10: Michael Marciano | C10: =VLOOKUP($B10,'Mens Master'!$A$2:$G$25,2,FALSE) -> 1913 | D10: =VLOOKUP($B10,'Mens Master'!$A$2:$G$25,3,FALSE) -> 1999 | E10: =VLOOKUP($B10,'Mens Master'!$A$2:$G$25,4,FALSE) -> 1961 | F10: =VLOOKUP($B10,'Mens Master'!$A$2:$G$26,5,FALSE) -> 1971 | G10: =VLOOKUP($B10,'Mens Master'!$A$2:$G$25,6,FALSE) -> 2404 | H10: =VLOOKUP($B10,'Mens Master'!$A$2:$G$25,7,FALSE) -> 2301 | I10: =SUM(C10:H10) -> 12549 | J10: 6 | K10: 15 | L10: 18 | M10: 12 | N10: 24 | O10: 24 | P10: =SUM(J10:O10) -> 99 | Q10: {=SUMPRODUCT(LARGE(C10:H10,{1,2,3,4}))} -> 8675 | R10: {=SUMPRODUCT(LARGE(C10:H10,{1,2}))} -> 4705 | S10: {=SUMPRODUCT(LARGE(C10:H10,{1,2,3}))} -> 6704 | T10: 18 | U10: {=SUMPRODUCT(LARGE(J10:O10,{1,2,3,4}))} -> 81 | V10: =T10+U10 -> 99 | W10: =AVERAGE(C10:H10)/8 -> 261.4375
A11: 9 | B11: Robert Wolfson | C11: =VLOOKUP($B11,'Mens Master'!$A$2:$G$25,2,FALSE) -> 2251 | D11: =VLOOKUP($B11,'Mens Master'!$A$2:$G$25,3,FALSE) -> 2121 | E11: =VLOOKUP($B11,'Mens Master'!$A$2:$G$25,4,FALSE) -> 1898 | F11: =VLOOKUP($B11,'Mens Master'!$A$2:$G$26,5,FALSE) -> 1863 | G11: =VLOOKUP($B11,'Mens Master'!$A$2:$G$25,6,FALSE) -> 2135 | H11: =VLOOKUP($B11,'Mens Master'!$A$2:$G$25,7,FALSE) -> 2053 | I11: =SUM(C11:H11) -> 12321 | J11: 24 | K11: 20 | L11: 14 | M11: 6 | N11: 14 | O11: 18 | P11: =SUM(J11:O11) -> 96 | Q11: {=SUMPRODUCT(LARGE(C11:H11,{1,2,3,4}))} -> 8560 | R11: {=SUMPRODUCT(LARGE(C11:H11,{1,2}))} -> 4386 | S11: {=SUMPRODUCT(LARGE(C11:H11,{1,2,3}))} -> 6507 | T11: 17 | U11: {=SUMPRODUCT(LARGE(J11:O11,{1,2,3,4}))} -> 76 | V11: =T11+U11 -> 93 | W11: =AVERAGE(C11:H11)/8 -> 256.6875
A12: 10 | B12: Bobby Kyte | C12: =VLOOKUP($B12,'Mens Master'!$A$2:$G$25,2,FALSE) -> 2066 | D12: =VLOOKUP($B12,'Mens Master'!$A$2:$G$25,3,FALSE) -> 2130 | E12: =VLOOKUP($B12,'Mens Master'!$A$2:$G$25,4,FALSE) -> 1882 | F12: =VLOOKUP($B12,'Mens Master'!$A$2:$G$26,5,FALSE) -> 2111 | G12: =VLOOKUP($B12,'Mens Master'!$A$2:$G$25,6,FALSE) -> 2132 | H12: =VLOOKUP($B12,'Mens Master'!$A$2:$G$25,7,FALSE) -> 2031 | I12: =SUM(C12:H12) -> 12352 | J12: 13 | K12: 21 | L12: 11 | M12: 21 | N12: 13 | O12: 17 | P12: =SUM(J12:O12) -> 96 | Q12: {=SUMPRODUCT(LARGE(C12:H12,{1,2,3,4}))} -> 8439 | R12: {=SUMPRODUCT(LARGE(C12:H12,{1,2}))} -> 4262 | S12: {=SUMPRODUCT(LARGE(C12:H12,{1,2,3}))} -> 6373 | T12: 16 | U12: {=SUMPRODUCT(LARGE(J12:O12,{1,2,3,4}))} -> 72 | V12: =T12+U12 -> 88 | W12: =AVERAGE(C12:H12)/8 -> 257.33333
A13: 11 | B13: Geno Ziebarth | C13: =VLOOKUP($B13,'Mens Master'!$A$2:$G$25,2,FALSE) -> 1781 | D13: =VLOOKUP($B13,'Mens Master'!$A$2:$G$25,3,FALSE) -> 2068 | E13: =VLOOKUP($B13,'Mens Master'!$A$2:$G$25,4,FALSE) -> 2041 | F13: =VLOOKUP($B13,'Mens Master'!$A$2:$G$26,5,FALSE) -> 2128 | G13: =VLOOKUP($B13,'Mens Master'!$A$2:$G$25,6,FALSE) -> 2197 | H13: =VLOOKUP($B13,'Mens Master'!$A$2:$G$25,7,FALSE) -> 1901 | I13: =SUM(C13:H13) -> 12116 | J13: 3 | K13: 17 | L13: 22 | M13: 22 | N13: 16 | O13: 10 | P13: =SUM(J13:O13) -> 90 | Q13: {=SUMPRODUCT(LARGE(C13:H13,{1,2,3,4}))} -> 8434 | R13: {=SUMPRODUCT(LARGE(C13:H13,{1,2}))} -> 4325 | S13: {=SUMPRODUCT(LARGE(C13:H13,{1,2,3}))} -> 6393 | T13: 15 | U13: {=SUMPRODUCT(LARGE(J13:O13,{1,2,3,4}))} -> 77 | V13: =T13+U13 -> 92 | W13: =AVERAGE(C13:H13)/8 -> 252.41667
A14: 12 | B14: Rylan Willier | C14: =VLOOKUP($B14,'Mens Master'!$A$2:$G$25,2,FALSE) -> 2168 | D14: =VLOOKUP($B14,'Mens Master'!$A$2:$G$25,3,FALSE) -> 1898 | E14: =VLOOKUP($B14,'Mens Master'!$A$2:$G$25,4,FALSE) -> 1883 | F14: =VLOOKUP($B14,'Mens Master'!$A$2:$G$26,5,FALSE) -> 2087 | G14: =VLOOKUP($B14,'Mens Master'!$A$2:$G$25,6,FALSE) -> 2198 | H14: =VLOOKUP($B14,'Mens Master'!$A$2:$G$25,7,FALSE) -> 1920 | I14: =SUM(C14:H14) -> 12154 | J14: 21 | K14: 8 | L14: 12 | M14: 19 | N14: 17 | O14: 11 | P14: =SUM(J14:O14) -> 88 | Q14: {=SUMPRODUCT(LARGE(C14:H14,{1,2,3,4}))} -> 8373 | R14: {=SUMPRODUCT(LARGE(C14:H14,{1,2}))} -> 4366 | S14: {=SUMPRODUCT(LARGE(C14:H14,{1,2,3}))} -> 6453 | T14: 14 | U14: {=SUMPRODUCT(LARGE(J14:O14,{1,2,3,4}))} -> 69 | V14: =T14+U14 -> 83 | W14: =AVERAGE(C14:H14)/8 -> 253.20833
A15: 13 | B15: Tim Wiseman | C15: =VLOOKUP($B15,'Mens Master'!$A$2:$G$25,2,FALSE) -> 1937 | D15: =VLOOKUP($B15,'Mens Master'!$A$2:$G$25,3,FALSE) -> 2070 | E15: =VLOOKUP($B15,'Mens Master'!$A$2:$G$25,4,FALSE) -> 1998 | F15: =VLOOKUP($B15,'Mens Master'!$A$2:$G$26,5,FALSE) -> 2017 | G15: =VLOOKUP($B15,'Mens Master'!$A$2:$G$25,6,FALSE) -> 2239 | H15: =VLOOKUP($B15,'Mens Master'!$A$2:$G$25,7,FALSE) -> 2002 | I15: =SUM(C15:H15) -> 12263 | J15: 7 | K15: 18 | L15: 19 | M15: 14 | N15: 18 | O15: 15 | P15: =SUM(J15:O15) -> 91 | Q15: {=SUMPRODUCT(LARGE(C15:H15,{1,2,3,4}))} -> 8328 | R15: {=SUMPRODUCT(LARGE(C15:H15,{1,2}))} -> 4309 | S15: {=SUMPRODUCT(LARGE(C15:H15,{1,2,3}))} -> 6326 | T15: 13 | U15: {=SUMPRODUCT(LARGE(J15:O15,{1,2,3,4}))} -> 70 | V15: =T15+U15 -> 83 | W15: =AVERAGE(C15:H15)/8 -> 255.47917
A16: 14 | B16: Allan Hurst | C16: =VLOOKUP($B16,'Mens Master'!$A$2:$G$25,2,FALSE) -> 2068 | D16: =VLOOKUP($B16,'Mens Master'!$A$2:$G$25,3,FALSE) -> 2079 | E16: =VLOOKUP($B16,'Mens Master'!$A$2:$G$25,4,FALSE) -> 1938 | F16: =VLOOKUP($B16,'Mens Master'!$A$2:$G$26,5,FALSE) -> 1908 | G16: =VLOOKUP($B16,'Mens Master'!$A$2:$G$25,6,FALSE) -> 2028 | H16: =VLOOKUP($B16,'Mens Master'!$A$2:$G$25,7,FALSE) -> 1944 | I16: =SUM(C16:H16) -> 11965 | J16: 14 | K16: 19 | L16: 16 | M16: 9 | N16: 11 | O16: 12 | P16: =SUM(J16:O16) -> 81 | Q16: {=SUMPRODUCT(LARGE(C16:H16,{1,2,3,4}))} -> 8119 | R16: {=SUMPRODUCT(LARGE(C16:H16,{1,2}))} -> 4147 | S16: {=SUMPRODUCT(LARGE(C16:H16,{1,2,3}))} -> 6175 | T16: 12 | U16: {=SUMPRODUCT(LARGE(J16:O16,{1,2,3,4}))} -> 61 | V16: =T16+U16 -> 73 | W16: =AVERAGE(C16:H16)/8 -> 249.27083
A17: 15 | B17: Ian Howe | C17: =VLOOKUP($B17,'Mens Master'!$A$2:$G$25,2,FALSE) -> 2166 | D17: =VLOOKUP($B17,'Mens Master'!$A$2:$G$25,3,FALSE) -> 1896 | E17: =VLOOKUP($B17,'Mens Master'!$A$2:$G$25,4,FALSE) -> 2027 | F17: =VLOOKUP($B17,'Mens Master'!$A$2:$G$26,5,FALSE) -> 2026 | G17: =VLOOKUP($B17,'Mens Master'!$A$2:$G$25,6,FALSE) -> 0 | H17: =VLOOKUP($B17,'Mens Master'!$A$2:$G$25,7,FALSE) -> 0 | I17: =SUM(C17:H17) -> 8115 | J17: 20 | K17: 7 | L17: 20 | M17: 16 | N17: 7 | P17: =SUM(J17:O17) -> 70 | Q17: {=SUMPRODUCT(LARGE(C17:H17,{1,2,3,4}))} -> 8115 | R17: {=SUMPRODUCT(LARGE(C17:H17,{1,2}))} -> 4193 | S17: {=SUMPRODUCT(LARGE(C17:H17,{1,2,3}))} -> 6219 | T17: 11 | U17: {=SUMPRODUCT(LARGE(J17:O17,{1,2,3,4}))} -> 63 | V17: =T17+U17 -> 74 | W17: =AVERAGE(C17:H17)/8 -> 169.0625
A18: 16 | B18: Mike Lacoursiere | C18: =VLOOKUP($B18,'Mens Master'!$A$2:$G$25,2,FALSE) -> 1878 | D18: =VLOOKUP($B18,'Mens Master'!$A$2:$G$25,3,FALSE) -> 1967 | E18: =VLOOKUP($B18,'Mens Master'!$A$2:$G$25,4,FALSE) -> 1850 | F18: =VLOOKUP($B18,'Mens Master'!$A$2:$G$26,5,FALSE) -> 1787 | G18: =VLOOKUP($B18,'Mens Master'!$A$2:$G$25,6,FALSE) -> 2180 | H18: =VLOOKUP($B18,'Mens Master'!$A$2:$G$25,7,FALSE) -> 1962 | I18: =SUM(C18:H18) -> 11624 | J18: 5 | K18: 12 | L18: 8 | M18: 3 | N18: 15 | O18: 13 | P18: =SUM(J18:O18) -> 56 | Q18: {=SUMPRODUCT(LARGE(C18:H18,{1,2,3,4}))} -> 7987 | R18: {=SUMPRODUCT(LARGE(C18:H18,{1,2}))} -> 4147 | S18: {=SUMPRODUCT(LARGE(C18:H18,{1,2,3}))} -> 6109 | T18: 10 | U18: {=SUMPRODUCT(LARGE(J18:O18,{1,2,3,4}))} -> 48 | V18: =T18+U18 -> 58 | W18: =AVERAGE(C18:H18)/8 -> 242.16667
A19: 17 | B19: Mike Herbert | C19: =VLOOKUP($B19,'Mens Master'!$A$2:$G$25,2,FALSE) -> 2153 | D19: =VLOOKUP($B19,'Mens Master'!$A$2:$G$25,3,FALSE) -> 1900 | E19: =VLOOKUP($B19,'Mens Master'!$A$2:$G$25,4,FALSE) -> 1814 | F19: =VLOOKUP($B19,'Mens Master'!$A$2:$G$26,5,FALSE) -> 2089 | G19: =VLOOKUP($B19,'Mens Master'!$A$2:$G$25,6,FALSE) -> 0 | H19: =VLOOKUP($B19,'Mens Master'!$A$2:$G$25,7,FALSE) -> 0 | I19: =SUM(C19:H19) -> 7956 | J19: 18 | K19: 9 | L19: 5 | M19: 20 | N19: 6 | P19: =SUM(J19:O19) -> 58 | Q19: {=SUMPRODUCT(LARGE(C19:H19,{1,2,3,4}))} -> 7956 | R19: {=SUMPRODUCT(LARGE(C19:H19,{1,2}))} -> 4242 | S19: {=SUMPRODUCT(LARGE(C19:H19,{1,2,3}))} -> 6142 | T19: 9 | U19: {=SUMPRODUCT(LARGE(J19:O19,{1,2,3,4}))} -> 53 | V19: =T19+U19 -> 62 | W19: =AVERAGE(C19:H19)/8 -> 165.75
A20: 18 | B20: Anthony Streit | C20: =VLOOKUP($B20,'Mens Master'!$A$2:$G$25,2,FALSE) -> 1988 | D20: =VLOOKUP($B20,'Mens Master'!$A$2:$G$25,3,FALSE) -> 1979 | E20: =VLOOKUP($B20,'Mens Master'!$A$2:$G$25,4,FALSE) -> 1919 | F20: =VLOOKUP($B20,'Mens Master'!$A$2:$G$26,5,FALSE) -> 1935 | G20: =VLOOKUP($B20,'Mens Master'!$A$2:$G$25,6,FALSE) -> 1948 | H20: =VLOOKUP($B20,'Mens Master'!$A$2:$G$25,7,FALSE) -> 2025 | I20: =SUM(C20:H20) -> 11794 | J20: 9 | K20: 14 | L20: 15 | M20: 10 | N20: 9 | O20: 16 | P20: =SUM(J20:O20) -> 73 | Q20: {=SUMPRODUCT(LARGE(C20:H20,{1,2,3,4}))} -> 7940 | R20: {=SUMPRODUCT(LARGE(C20:H20,{1,2}))} -> 4013 | S20: {=SUMPRODUCT(LARGE(C20:H20,{1,2,3}))} -> 5992 | T20: 8 | U20: {=SUMPRODUCT(LARGE(J20:O20,{1,2,3,4}))} -> 55 | V20: =T20+U20 -> 63 | W20: =AVERAGE(C20:H20)/8 -> 245.70833
A21: 19 | B21: Aaron Arndt | C21: =VLOOKUP($B21,'Mens Master'!$A$2:$G$25,2,FALSE) -> 2071 | D21: =VLOOKUP($B21,'Mens Master'!$A$2:$G$25,3,FALSE) -> 1858 | E21: =VLOOKUP($B21,'Mens Master'!$A$2:$G$25,4,FALSE) -> 1816 | F21: =VLOOKUP($B21,'Mens Master'!$A$2:$G$26,5,FALSE) -> 1899 | G21: =VLOOKUP($B21,'Mens Master'!$A$2:$G$25,6,FALSE) -> 2053 | H21: =VLOOKUP($B21,'Mens Master'!$A$2:$G$25,7,FALSE) -> 1863 | I21: =SUM(C21:H21) -> 11560 | J21: 15 | K21: 4 | L21: 6 | M21: 7 | N21: 12 | O21: 9 | P21: =SUM(J21:O21) -> 53 | Q21: {=SUMPRODUCT(LARGE(C21:H21,{1,2,3,4}))} -> 7886 | R21: {=SUMPRODUCT(LARGE(C21:H21,{1,2}))} -> 4124 | S21: {=SUMPRODUCT(LARGE(C21:H21,{1,2,3}))} -> 6023 | T21: 7 | U21: {=SUMPRODUCT(LARGE(J21:O21,{1,2,3,4}))} -> 43 | V21: =T21+U21 -> 50 | W21: =AVERAGE(C21:H21)/8 -> 240.83333
A22: 20 | B22: Bradley Wilton | C22: =VLOOKUP($B22,'Mens Master'!$A$2:$G$25,2,FALSE) -> 2062 | D22: =VLOOKUP($B22,'Mens Master'!$A$2:$G$25,3,FALSE) -> 1957 | E22: =VLOOKUP($B22,'Mens Master'!$A$2:$G$25,4,FALSE) -> 1885 | F22: =VLOOKUP($B22,'Mens Master'!$A$2:$G$26,5,FALSE) -> 1907 | G22: =VLOOKUP($B22,'Mens Master'!$A$2:$G$25,6,FALSE) -> 0 | H22: =VLOOKUP($B22,'Mens Master'!$A$2:$G$25,7,FALSE) -> 0 | I22: =SUM(C22:H22) -> 7811 | J22: 12 | K22: 11 | L22: 13 | M22: 8 | N22: 5 | P22: =SUM(J22:O22) -> 49 | Q22: {=SUMPRODUCT(LARGE(C22:H22,{1,2,3,4}))} -> 7811 | R22: {=SUMPRODUCT(LARGE(C22:H22,{1,2}))} -> 4019 | S22: {=SUMPRODUCT(LARGE(C22:H22,{1,2,3}))} -> 5926 | T22: 6 | U22: {=SUMPRODUCT(LARGE(J22:O22,{1,2,3,4}))} -> 44 | V22: =T22+U22 -> 50 | W22: =AVERAGE(C22:H22)/8 -> 162.72917
A23: 21 | B23: Erik Kjos | C23: =VLOOKUP($B23,'Mens Master'!$A$2:$G$25,2,FALSE) -> 2018 | D23: =VLOOKUP($B23,'Mens Master'!$A$2:$G$25,3,FALSE) -> 1916 | E23: =VLOOKUP($B23,'Mens Master'!$A$2:$G$25,4,FALSE) -> 2034 | F23: =VLOOKUP($B23,'Mens Master'!$A$2:$G$26,5,FALSE) -> 1797 | G23: =VLOOKUP($B23,'Mens Master'!$A$2:$G$25,6,FALSE) -> 0 | H23: =VLOOKUP($B23,'Mens Master'!$A$2:$G$25,7,FALSE) -> 0 | I23: =SUM(C23:H23) -> 7765 | J23: 11 | K23: 10 | L23: 21 | M23: 4 | N23: 4 | P23: =SUM(J23:O23) -> 50 | Q23: {=SUMPRODUCT(LARGE(C23:H23,{1,2,3,4}))} -> 7765 | R23: {=SUMPRODUCT(LARGE(C23:H23,{1,2}))} -> 4052 | S23: {=SUMPRODUCT(LARGE(C23:H23,{1,2,3}))} -> 5968 | T23: 5 | U23: {=SUMPRODUCT(LARGE(J23:O23,{1,2,3,4}))} -> 46 | V23: =T23+U23 -> 51 | W23: =AVERAGE(C23:H23)/8 -> 161.77083
A24: 22 | B24: Carter Stretch | C24: =VLOOKUP($B24,'Mens Master'!$A$2:$G$25,2,FALSE) -> 1803 | D24: =VLOOKUP($B24,'Mens Master'!$A$2:$G$25,3,FALSE) -> 1773 | E24: =VLOOKUP($B24,'Mens Master'!$A$2:$G$25,4,FALSE) -> 1712 | F24: =VLOOKUP($B24,'Mens Master'!$A$2:$G$26,5,FALSE) -> 1850 | G24: =VLOOKUP($B24,'Mens Master'!$A$2:$G$25,6,FALSE) -> 1927 | H24: =VLOOKUP($B24,'Mens Master'!$A$2:$G$25,7,FALSE) -> 1854 | I24: =SUM(C24:H24) -> 10919 | J24: 4 | K24: 3 | L24: 3 | M24: 5 | N24: 8 | O24: 8 | P24: =SUM(J24:O24) -> 31 | Q24: {=SUMPRODUCT(LARGE(C24:H24,{1,2,3,4}))} -> 7434 | R24: {=SUMPRODUCT(LARGE(C24:H24,{1,2}))} -> 3781 | S24: {=SUMPRODUCT(LARGE(C24:H24,{1,2,3}))} -> 5631 | T24: 4 | U24: {=SUMPRODUCT(LARGE(J24:O24,{1,2,3,4}))} -> 25 | V24: =T24+U24 -> 29 | W24: =AVERAGE(C24:H24)/8 -> 227.47917
A25: 23 | B25: Martinho Marciano | C25: =VLOOKUP($B25,'Mens Master'!$A$2:$G$25,2,FALSE) -> 1760 | D25: =VLOOKUP($B25,'Mens Master'!$A$2:$G$25,3,FALSE) -> 1748 | E25: =VLOOKUP($B25,'Mens Master'!$A$2:$G$25,4,FALSE) -> 1777 | F25: =VLOOKUP($B25,'Mens Master'!$A$2:$G$26,5,FALSE) -> 1967 | G25: =VLOOKUP($B25,'Mens Master'!$A$2:$G$25,6,FALSE) -> 0 | H25: =VLOOKUP($B25,'Mens Master'!$A$2:$G$25,7,FALSE) -> 0 | I25: =SUM(C25:H25) -> 7252 | J25: 2 | K25: 2 | L25: 4 | M25: 11 | N25: 3 | P25: =SUM(J25:O25) -> 22 | Q25: {=SUMPRODUCT(LARGE(C25:H25,{1,2,3,4}))} -> 7252 | R25: {=SUMPRODUCT(LARGE(C25:H25,{1,2}))} -> 3744 | S25: {=SUMPRODUCT(LARGE(C25:H25,{1,2,3}))} -> 5504 | T25: 3 | U25: {=SUMPRODUCT(LARGE(J25:O25,{1,2,3,4}))} -> 20 | V25: =T25+U25 -> 23 | W25: =AVERAGE(C25:H25)/8 -> 151.08333
A26: 24 | B26: Derek Home | C26: =VLOOKUP($B26,'Mens Master'!$A$2:$G$25,2,FALSE) -> 2095 | D26: =VLOOKUP($B26,'Mens Master'!$A$2:$G$25,3,FALSE) -> 1883 | E26: =VLOOKUP($B26,'Mens Master'!$A$2:$G$25,4,FALSE) -> 0 | F26: =VLOOKUP($B26,'Mens Master'!$A$2:$G$26,5,FALSE) -> 0 | G26: =VLOOKUP($B26,'Mens Master'!$A$2:$G$25,6,FALSE) -> 0 | H26: =VLOOKUP($B26,'Mens Master'!$A$2:$G$25,7,FALSE) -> 0 | I26: =SUM(C26:H26) -> 3978 | J26: 16 | K26: 6 | P26: =SUM(J26:O26) -> 22 | Q26: {=SUMPRODUCT(LARGE(C26:H26,{1,2,3,4}))} -> 3978 | R26: {=SUMPRODUCT(LARGE(C26:H26,{1,2}))} -> 3978 | S26: {=SUMPRODUCT(LARGE(C26:H26,{1,2,3}))} -> 3978 | T26: 2 | U26: {=SUMPRODUCT(LARGE(J26:O26,{1,2,3,4}))} -> #NUM! | V26: 22 | W26: =AVERAGE(C26:H26)/8 -> 82.875
A27: 25 | B27: Robert Clark | C27: =VLOOKUP($B27,'Mens Master'!$A$2:$G$26,2,FALSE) -> 0 | D27: =VLOOKUP($B27,'Mens Master'!$A$2:$G$26,3,FALSE) -> 0 | E27: =VLOOKUP($B27,'Mens Master'!$A$2:$G$26,4,FALSE) -> 1845 | F27: =VLOOKUP($B27,'Mens Master'!$A$2:$G$26,5,FALSE) -> 0 | I27: =SUM(C27:H27) -> 1845 | L27: 7 | P27: =SUM(J27:O27) -> 7 | Q27: {=SUMPRODUCT(LARGE(C27:H27,{1,2,3,4}))} -> 1845 | R27: {=SUMPRODUCT(LARGE(C27:H27,{1,2}))} -> 1845 | S27: {=SUMPRODUCT(LARGE(C27:H27,{1,2,3}))} -> 1845 | T27: 1 | U27: {=SUMPRODUCT(LARGE(J27:O27,{1,2,3,4}))} -> #NUM! | V27: 7 | W27: =AVERAGE(C27:H27)/8 -> 57.65625

Sheet Mens Master
B1: 1 | C1: 2 | D1: 3 | E1: 4 | F1: 5 | G1: 6
A2: Bradly Tytgat | B2: 2173 | C2: 2222 | D2: 2100 | E2: 2242 | F2: 2481 | G2: 1988
A3: Adam Weber | B3: 2324 | C3: 2052 | D3: 2126 | E3: 2001 | F3: 2370 | G3: 2167
A4: Matt Schultz | B4: 2155 | C4: 2218 | D4: 1874 | E4: 2220 | F4: 2000 | G4: 2125
A5: Robert Wolfson | B5: 2251 | C5: 2121 | D5: 1898 | E5: 1863 | F5: 2135 | G5: 2053
A6: Tyler Tytgat | B6: 2005 | C6: 2317 | D6: 2088 | E6: 2265 | F6: 2254 | G6: 2177
A7: Bobby Kyte | B7: 2066 | C7: 2130 | D7: 1882 | E7: 2111 | F7: 2132 | G7: 2031
A8: Gary Baird | B8: 2223 | C8: 1972 | D8: 1854 | E8: 2062 | F8: 2371 | G8: 2143
A9: Dexter Wiseman | B9: 1938 | C9: 2212 | D9: 1684 | E9: 2038 | F9: 2241 | G9: 2369
A10: Allan Hurst | B10: 2068 | C10: 2079 | D10: 1938 | E10: 1908 | F10: 2028 | G10: 1944
A11: Rylan Willier | B11: 2168 | C11: 1898 | D11: 1883 | E11: 2087 | F11: 2198 | G11: 1920
A12: Ian Howe | B12: 2166 | C12: 1896 | D12: 2027 | E12: 2026
A13: Mike Herbert | B13: 2153 | C13: 1900 | D13: 1814 | E13: 2089
A14: Bradley Wilton | B14: 2062 | C14: 1957 | D14: 1885 | E14: 1907
A15: Karie Kreutz | B15: 2142 | C15: 1866 | D15: 1947 | E15: 2022 | F15: 2393 | G15: 2237
A16: Tim Wiseman | B16: 1937 | C16: 2070 | D16: 1998 | E16: 2017 | F16: 2239 | G16: 2002
A17: Derek Home | B17: 2095 | C17: 1883
A18: Anthony Streit | B18: 1988 | C18: 1979 | D18: 1919 | E18: 1935 | F18: 1948 | G18: 2025
A19: Erik Kjos | B19: 2018 | C19: 1916 | D19: 2034 | E19: 1797
A20: Aaron Arndt | B20: 2071 | C20: 1858 | D20: 1816 | E20: 1899 | F20: 2053 | G20: 1863
A21: Michael Marciano | B21: 1913 | C21: 1999 | D21: 1961 | E21: 1971 | F21: 2404 | G21: 2301
A22: Geno Ziebarth | B22: 1781 | C22: 2068 | D22: 2041 | E22: 2128 | F22: 2197 | G22: 1901
A23: Mike Lacoursiere | B23: 1878 | C23: 1967 | D23: 1850 | E23: 1787 | F23: 2180 | G23: 1962
A24: Carter Stretch | B24: 1803 | C24: 1773 | D24: 1712 | E24: 1850 | F24: 1927 | G24: 1854
A25: Martinho Marciano | B25: 1760 | C25: 1748 | D25: 1777 | E25: 1967
A26: Robert Clark | D26: 1845

Sheet Cut Projections
B1: Best 4 | C1: Best 2 | D1: Worst 2 | E1: Best 3 | F1: First Throw Away | G1: To Catch 1st | H1: Average | I1: 8 Game Score | J1: Catch In One | K1: 3 year Ave | L1: Average | M1: 8 Game Score | N1: Catch In One | O1: Catch 8800 | P1: Average | Q1: 8 Game Score | R1: Catch In one
A2: Bradly Tytgat | B2: =VLOOKUP(A2,'Tournament Men Division'!B3:W27,16,) -> 9118 | C2: =VLOOKUP(A2,'Tournament Men Division'!$B$3:$W$27,17,) -> 4723 | D2: =B2-C2 -> 4395 | E2: =VLOOKUP(A2,'Tournament Men Division'!B3:W27, 18,) -> 6945 | F2: =B2-E2 -> 2173 | K2: =($U$7-B2)+D2 -> 4018 | L2: =K2/16 -> 251.125 | M2: =L2*8 -> 2009 | N2: =(U$7-B2)+F2 -> 1796 | O2: =((8800-B2)+D2) -> 4077 | P2: =O2/16 -> 254.8125 | Q2: =P2*8 -> 2038.5 | R2: =((8800-B2)+F2) -> 1855
A3: Tyler Tytgat | B3: =VLOOKUP(A3,'Tournament Men Division'!B4:W28,16,) -> 9013 | C3: =VLOOKUP(A3,'Tournament Men Division'!$B$3:$W$27,17,) -> 4582 | D3: =B3-C3 -> 4431 | E3: =VLOOKUP(A3,'Tournament Men Division'!B4:W28, 18,) -> 6836 | F3: =B3-E3 -> 2177 | G3: =(($B$2-B3)+$D3) -> 4536 | H3: =G3/16 -> 283.5 | I3: =H3*8 -> 2268 | J3: =(($B$2-B3)+F3) -> 2282 | K3: =($U$7-B3)+D3 -> 4159 | L3: =K3/16 -> 259.9375 | M3: =L3*8 -> 2079.5 | N3: =(U$7-B3)+F3 -> 1905 | O3: =((8800-B3)+D3) -> 4218 | P3: =O3/16 -> 263.625 | Q3: =P3*8 -> 2109 | R3: =((8800-B3)+F3) -> 1964 | U3: Mens 3 year cut average
A4: Adam Weber | B4: =VLOOKUP(A4,'Tournament Men Division'!B5:W29,16,) -> 8987 | C4: =VLOOKUP(A4,'Tournament Men Division'!$B$3:$W$27,17,) -> 4694 | D4: =B4-C4 -> 4293 | E4: =VLOOKUP(A4,'Tournament Men Division'!B5:W29, 18,) -> 6861 | F4: =B4-E4 -> 2126 | G4: =(($B$2-B4)+$D4) -> 4424 | H4: =G4/16 -> 276.5 | I4: =H4*8 -> 2212 | J4: =(($B$2-B4)+F4) -> 2257 | K4: =($U$7-B4)+D4 -> 4047 | L4: =K4/16 -> 252.9375 | M4: =L4*8 -> 2023.5 | N4: =(U$7-B4)+F4 -> 1880 | O4: =((8800-B4)+D4) -> 4106 | P4: =O4/16 -> 256.625 | Q4: =P4*8 -> 2053 | R4: =((8800-B4)+F4) -> 1939 | T4: 2018-2019 | U4: 8856
A5: Matt Schultz | B5: =VLOOKUP(A5,'Tournament Men Division'!B6:W30,16,) -> 8718 | C5: =VLOOKUP(A5,'Tournament Men Division'!$B$3:$W$27,17,) -> 4438 | D5: =B5-C5 -> 4280 | E5: =VLOOKUP(A5,'Tournament Men Division'!B6:W30, 18,) -> 6593 | F5: =B5-E5 -> 2125 | G5: =(($B$2-B5)+$D5) -> 4680 | H5: =G5/16 -> 292.5 | I5: =H5*8 -> 2340 | J5: =(($B$2-B5)+F5) -> 2525 | K5: =($U$7-B5)+D5 -> 4303 | L5: =K5/16 -> 268.9375 | M5: =L5*8 -> 2151.5 | N5: =(U$7-B5)+F5 -> 2148 | O5: =((8800-B5)+D5) -> 4362 | P5: =O5/16 -> 272.625 | Q5: =P5*8 -> 2181 | R5: =((8800-B5)+F5) -> 2207 | T5: 2019-2020 | U5: 8645
A6: Bobby Kyte | B6: =VLOOKUP(A6,'Tournament Men Division'!B7:W31,16,) -> 8439 | C6: =VLOOKUP(A6,'Tournament Men Division'!$B$3:$W$27,17,) -> 4262 | D6: =B6-C6 -> 4177 | E6: =VLOOKUP(A6,'Tournament Men Division'!B7:W31, 18,) -> 6373 | F6: =B6-E6 -> 2066 | G6: =(($B$2-B6)+$D6) -> 4856 | H6: =G6/16 -> 303.5 | I6: =H6*8 -> 2428 | J6: =(($B$2-B6)+F6) -> 2745 | K6: =($U$7-B6)+D6 -> 4479 | L6: =K6/16 -> 279.9375 | M6: =L6*8 -> 2239.5 | N6: =(U$7-B6)+F6 -> 2368 | O6: =((8800-B6)+D6) -> 4538 | P6: =O6/16 -> 283.625 | Q6: =P6*8 -> 2269 | R6: =((8800-B6)+F6) -> 2427 | T6: 2021-2022 | U6: 8722
A7: Robert Wolfson | B7: =VLOOKUP(A7,'Tournament Men Division'!B8:W32,16,) -> 8560 | C7: =VLOOKUP(A7,'Tournament Men Division'!$B$3:$W$27,17,) -> 4386 | D7: =B7-C7 -> 4174 | E7: =VLOOKUP(A7,'Tournament Men Division'!B8:W32, 18,) -> 6507 | F7: =B7-E7 -> 2053 | G7: =(($B$2-B7)+$D7) -> 4732 | H7: =G7/16 -> 295.75 | I7: =H7*8 -> 2366 | J7: =(($B$2-B7)+F7) -> 2611 | K7: =($U$7-B7)+D7 -> 4355 | L7: =K7/16 -> 272.1875 | M7: =L7*8 -> 2177.5 | N7: =(U$7-B7)+F7 -> 2234 | O7: =((8800-B7)+D7) -> 4414 | P7: =O7/16 -> 275.875 | Q7: =P7*8 -> 2207 | R7: =((8800-B7)+F7) -> 2293 | U7: =AVERAGE(U4:U6) -> 8741
A8: Gary Baird | B8: =VLOOKUP(A8,'Tournament Men Division'!B10:W34,16,) -> #N/A | C8: =VLOOKUP(A8,'Tournament Men Division'!$B$3:$W$27,17,) -> 4594 | D8: =B8-C8 -> #N/A | E8: =VLOOKUP(A8,'Tournament Men Division'!B9:W33, 18,) -> #N/A | F8: =B8-E8 -> #N/A | G8: =(($B$2-B8)+$D8) -> #N/A | H8: =G8/16 -> #N/A | I8: =H8*8 -> #N/A | J8: =(($B$2-B8)+F8) -> #N/A | K8: =($U$7-B8)+D8 -> #N/A | L8: =K8/16 -> #N/A | M8: =L8*8 -> #N/A | N8: =(U$7-B8)+F8 -> #N/A | O8: =((8800-B8)+D8) -> #N/A | P8: =O8/16 -> #N/A | Q8: =P8*8 -> #N/A | R8: =((8800-B8)+F8) -> #N/A
A9: Rylan Willier | B9: =VLOOKUP(A9,'Tournament Men Division'!B11:W35,16,) -> 8373 | C9: =VLOOKUP(A9,'Tournament Men Division'!$B$3:$W$27,17,) -> 4366 | D9: =B9-C9 -> 4007 | E9: =VLOOKUP(A9,'Tournament Men Division'!B10:W34, 18,) -> 6453 | F9: =B9-E9 -> 1920 | G9: =(($B$2-B9)+$D9) -> 4752 | H9: =G9/16 -> 297 | I9: =H9*8 -> 2376 | J9: =(($B$2-B9)+F9) -> 2665 | K9: =($U$7-B9)+D9 -> 4375 | L9: =K9/16 -> 273.4375 | M9: =L9*8 -> 2187.5 | N9: =(U$7-B9)+F9 -> 2288 | O9: =((8800-B9)+D9) -> 4434 | P9: =O9/16 -> 277.125 | Q9: =P9*8 -> 2217 | R9: =((8800-B9)+F9) -> 2347
A10: Tim Wiseman | B10: =VLOOKUP(A10,'Tournament Men Division'!B12:W36,16,) -> 8328 | C10: =VLOOKUP(A10,'Tournament Men Division'!$B$3:$W$27,17,) -> 4309 | D10: =B10-C10 -> 4019 | E10: =VLOOKUP(A10,'Tournament Men Division'!B11:W35, 18,) -> 6326 | F10: =B10-E10 -> 2002 | G10: =(($B$2-B10)+$D10) -> 4809 | H10: =G10/16 -> 300.5625 | I10: =H10*8 -> 2404.5 | J10: =(($B$2-B10)+F10) -> 2792 | K10: =($U$7-B10)+D10 -> 4432 | L10: =K10/16 -> 277 | M10: =L10*8 -> 2216 | N10: =(U$7-B10)+F10 -> 2415 | O10: =((8800-B10)+D10) -> 4491 | P10: =O10/16 -> 280.6875 | Q10: =P10*8 -> 2245.5 | R10: =((8800-B10)+F10) -> 2474
A11: Geno Ziebarth | B11: =VLOOKUP(A11,'Tournament Men Division'!B13:W37,16,) -> 8434 | C11: =VLOOKUP(A11,'Tournament Men Division'!$B$3:$W$27,17,) -> 4325 | D11: =B11-C11 -> 4109 | E11: =VLOOKUP(A11,'Tournament Men Division'!B12:W36, 18,) -> 6393 | F11: =B11-E11 -> 2041 | G11: =(($B$2-B11)+$D11) -> 4793 | H11: =G11/16 -> 299.5625 | I11: =H11*8 -> 2396.5 | J11: =(($B$2-B11)+F11) -> 2725 | K11: =($U$7-B11)+D11 -> 4416 | L11: =K11/16 -> 276 | M11: =L11*8 -> 2208 | N11: =(U$7-B11)+F11 -> 2348 | O11: =((8800-B11)+D11) -> 4475 | P11: =O11/16 -> 279.6875 | Q11: =P11*8 -> 2237.5 | R11: =((8800-B11)+F11) -> 2407
A12: Allan Hurst | B12: =VLOOKUP(A12,'Tournament Men Division'!B14:W38,16,) -> 8119 | C12: =VLOOKUP(A12,'Tournament Men Division'!$B$3:$W$27,17,) -> 4147 | D12: =B12-C12 -> 3972 | E12: =VLOOKUP(A12,'Tournament Men Division'!B13:W37, 18,) -> 6175 | F12: =B12-E12 -> 1944 | G12: =(($B$2-B12)+$D12) -> 4971 | H12: =G12/16 -> 310.6875 | I12: =H12*8 -> 2485.5 | J12: =(($B$2-B12)+F12) -> 2943 | K12: =($U$7-B12)+D12 -> 4594 | L12: =K12/16 -> 287.125 | M12: =L12*8 -> 2297 | N12: =(U$7-B12)+F12 -> 2566 | O12: =((8800-B12)+D12) -> 4653 | P12: =O12/16 -> 290.8125 | Q12: =P12*8 -> 2326.5 | R12: =((8800-B12)+F12) -> 2625
A13: Karie Kreutz | B13: =VLOOKUP(A13,'Tournament Men Division'!B15:W39,16,) -> #N/A | C13: =VLOOKUP(A13,'Tournament Men Division'!$B$3:$W$27,17,) -> 4630 | D13: =B13-C13 -> #N/A | E13: =VLOOKUP(A13,'Tournament Men Division'!B14:W38, 18,) -> #N/A | F13: =B13-E13 -> #N/A | G13: =(($B$2-B13)+$D13) -> #N/A | H13: =G13/16 -> #N/A | I13: =H13*8 -> #N/A | J13: =(($B$2-B13)+F13) -> #N/A | K13: =($U$7-B13)+D13 -> #N/A | L13: =K13/16 -> #N/A | M13: =L13*8 -> #N/A | N13: =(U$7-B13)+F13 -> #N/A | O13: =((8800-B13)+D13) -> #N/A | P13: =O13/16 -> #N/A | Q13: =P13*8 -> #N/A | R13: =((8800-B13)+F13) -> #N/A
A14: Dexter Wiseman | B14: =VLOOKUP(A14,'Tournament Men Division'!B17:W41,16,) -> #N/A | C14: =VLOOKUP(A14,'Tournament Men Division'!$B$3:$W$27,17,) -> 4610 | D14: =B14-C14 -> #N/A | E14: =VLOOKUP(A14,'Tournament Men Division'!B15:W39, 18,) -> #N/A | F14: =B14-E14 -> #N/A | G14: =(($B$2-B14)+$D14) -> #N/A | H14: =G14/16 -> #N/A | I14: =H14*8 -> #N/A | J14: =(($B$2-B14)+F14) -> #N/A | K14: =($U$7-B14)+D14 -> #N/A | L14: =K14/16 -> #N/A | M14: =L14*8 -> #N/A | N14: =(U$7-B14)+F14 -> #N/A | O14: =((8800-B14)+D14) -> #N/A | P14: =O14/16 -> #N/A | Q14: =P14*8 -> #N/A | R14: =((8800-B14)+F14) -> #N/A
A15: Michael Marciano | B15: =VLOOKUP(A15,'Tournament Men Division'!B18:W42,16,) -> #N/A | C15: =VLOOKUP(A15,'Tournament Men Division'!$B$3:$W$27,17,) -> 4705 | D15: =B15-C15 -> #N/A | E15: =VLOOKUP(A15,'Tournament Men Division'!B16:W40, 18,) -> #N/A | F15: =B15-E15 -> #N/A | G15: =(($B$2-B15)+$D15) -> #N/A | H15: =G15/16 -> #N/A | I15: =H15*8 -> #N/A | J15: =(($B$2-B15)+F15) -> #N/A | K15: =($U$7-B15)+D15 -> #N/A | L15: =K15/16 -> #N/A | M15: =L15*8 -> #N/A | N15: =(U$7-B15)+F15 -> #N/A | O15: =((8800-B15)+D15) -> #N/A | P15: =O15/16 -> #N/A | Q15: =P15*8 -> #N/A | R15: =((8800-B15)+F15) -> #N/A
A16: Anthony Streit | B16: =VLOOKUP(A16,'Tournament Men Division'!B19:W43,16,) -> 7940 | C16: =VLOOKUP(A16,'Tournament Men Division'!$B$3:$W$27,17,) -> 4013 | D16: =B16-C16 -> 3927 | E16: =VLOOKUP(A16,'Tournament Men Division'!B17:W41, 18,) -> 5992 | F16: =B16-E16 -> 1948 | G16: =(($B$2-B16)+$D16) -> 5105 | H16: =G16/16 -> 319.0625 | I16: =H16*8 -> 2552.5 | J16: =(($B$2-B16)+F16) -> 3126 | K16: =($U$7-B16)+D16 -> 4728 | L16: =K16/16 -> 295.5 | M16: =L16*8 -> 2364 | N16: =(U$7-B16)+F16 -> 2749 | O16: =((8800-B16)+D16) -> 4787 | P16: =O16/16 -> 299.1875 | Q16: =P16*8 -> 2393.5 | R16: =((8800-B16)+F16) -> 2808
A17: Bradley Wilton | B17: =VLOOKUP(A17,'Tournament Men Division'!B20:W44,16,) -> 7811 | C17: =VLOOKUP(A17,'Tournament Men Division'!$B$3:$W$27,17,) -> 4019 | D17: =B17-C17 -> 3792 | E17: =VLOOKUP(A17,'Tournament Men Division'!B18:W42, 18,) -> 5926 | F17: =B17-E17 -> 1885 | G17: =(($B$2-B17)+$D17) -> 5099 | H17: =G17/16 -> 318.6875 | I17: =H17*8 -> 2549.5 | J17: =(($B$2-B17)+F17) -> 3192 | K17: =($U$7-B17)+D17 -> 4722 | L17: =K17/16 -> 295.125 | M17: =L17*8 -> 2361 | N17: =(U$7-B17)+F17 -> 2815 | O17: =((8800-B17)+D17) -> 4781 | P17: =O17/16 -> 298.8125 | Q17: =P17*8 -> 2390.5 | R17: =((8800-B17)+F17) -> 2874 | T17: Note 8 Game Score gives you the average of the scores that are needed to meet threshold. e.g. Bradly Tytgat needs to average 267.31 through the lowest counting two tournaments towards four game best, which translate to a two tournament score of 4277 or two equal scores of 2139.
A18: Erik Kjos | B18: =VLOOKUP(A18,'Tournament Men Division'!B21:W45,16,) -> 7765 | C18: =VLOOKUP(A18,'Tournament Men Division'!$B$3:$W$27,17,) -> 4052 | D18: =B18-C18 -> 3713 | E18: =VLOOKUP(A18,'Tournament Men Division'!B19:W43, 18,) -> 5968 | F18: =B18-E18 -> 1797 | G18: =(($B$2-B18)+$D18) -> 5066 | H18: =G18/16 -> 316.625 | I18: =H18*8 -> 2533 | J18: =(($B$2-B18)+F18) -> 3150 | K18: =($U$7-B18)+D18 -> 4689 | L18: =K18/16 -> 293.0625 | M18: =L18*8 -> 2344.5 | N18: =(U$7-B18)+F18 -> 2773 | O18: =((8800-B18)+D18) -> 4748 | P18: =O18/16 -> 296.75 | Q18: =P18*8 -> 2374 | R18: =((8800-B18)+F18) -> 2832
A19: Aaron Arndt | B19: =VLOOKUP(A19,'Tournament Men Division'!B22:W46,16,) -> #N/A | C19: =VLOOKUP(A19,'Tournament Men Division'!$B$3:$W$27,17,) -> 4124 | D19: =B19-C19 -> #N/A | E19: =VLOOKUP(A19,'Tournament Men Division'!B20:W44, 18,) -> 6023 | F19: =B19-E19 -> #N/A | G19: =(($B$2-B19)+$D19) -> #N/A | H19: =G19/16 -> #N/A | I19: =H19*8 -> #N/A | J19: =(($B$2-B19)+F19) -> #N/A | K19: =($U$7-B19)+D19 -> #N/A | L19: =K19/16 -> #N/A | M19: =L19*8 -> #N/A | N19: =(U$7-B19)+F19 -> #N/A | O19: =((8800-B19)+D19) -> #N/A | P19: =O19/16 -> #N/A | Q19: =P19*8 -> #N/A | R19: =((8800-B19)+F19) -> #N/A
A20: Mike Lacoursiere | B20: =VLOOKUP(A20,'Tournament Men Division'!B23:W47,16,) -> #N/A | C20: =VLOOKUP(A20,'Tournament Men Division'!$B$3:$W$27,17,) -> 4147 | D20: =B20-C20 -> #N/A | E20: =VLOOKUP(A20,'Tournament Men Division'!B21:W45, 18,) -> #N/A | F20: =B20-E20 -> #N/A | G20: =(($B$2-B20)+$D20) -> #N/A | H20: =G20/16 -> #N/A | I20: =H20*8 -> #N/A | J20: =(($B$2-B20)+F20) -> #N/A | K20: =($U$7-B20)+D20 -> #N/A | L20: =K20/16 -> #N/A | M20: =L20*8 -> #N/A | N20: =(U$7-B20)+F20 -> #N/A | O20: =((8800-B20)+D20) -> #N/A | P20: =O20/16 -> #N/A | Q20: =P20*8 -> #N/A | R20: =((8800-B20)+F20) -> #N/A
A21: Carter Stretch | B21: =VLOOKUP(A21,'Tournament Men Division'!B25:W49,16,) -> #N/A | C21: =VLOOKUP(A21,'Tournament Men Division'!$B$3:$W$27,17,) -> 3781 | D21: =B21-C21 -> #N/A | E21: =VLOOKUP(A21,'Tournament Men Division'!B22:W46, 18,) -> 5631 | F21: =B21-E21 -> #N/A | G21: =(($B$2-B21)+$D21) -> #N/A | H21: =G21/16 -> #N/A | I21: =H21*8 -> #N/A | J21: =(($B$2-B21)+F21) -> #N/A | K21: =($U$7-B21)+D21 -> #N/A | L21: =K21/16 -> #N/A | M21: =L21*8 -> #N/A | N21: =(U$7-B21)+F21 -> #N/A | O21: =((8800-B21)+D21) -> #N/A | P21: =O21/16 -> #N/A | Q21: =P21*8 -> #N/A | R21: =((8800-B21)+F21) -> #N/A
B23: Best 4 | C23: Best 2 | D23: Worst 2 | E23: Best 3 | F23: First Throw Away | G23: To Catch 1st | H23: Average | I23: 8 Game Score | J23: Catch In One | K23: 3 year Ave | L23: Average | M23: 8 Game Score | N23: Catch In One | O23: Catch 8300 | P23: Average | Q23: 8 Game Score | R23: Catch In One
A24: Jennifer Baker | B24: =VLOOKUP(A24,'Tournament Women Division'!$B$3:$W$21,16,) -> 8832 | C24: =VLOOKUP($A24,'Tournament Women Division'!$B$3:$W$21,17,) -> 4634 | D24: =B24-C24 -> 4198 | E24: =VLOOKUP(A24,'Tournament Women Division'!$B$3:$W$21, 18,) -> 6761 | F24: =B24-E24 -> 2071
A25: Jenna Lamoureaux | B25: =VLOOKUP(A25,'Tournament Women Division'!$B$3:$W$21,16,) -> 8534 | C25: =VLOOKUP($A25,'Tournament Women Division'!$B$3:$W$21,17,) -> 4360 | D25: =B25-C25 -> 4174 | E25: =VLOOKUP(A25,'Tournament Women Division'!$B$3:$W$21, 18,) -> 6477 | F25: =B25-E25 -> 2057 | G25: =(($B$24-B25)+D25) -> 4472 | H25: =G25/16 -> 279.5 | I25: =H25*8 -> 2236 | J25: =(($B$2-B25)+F25) -> 2641 | O25: =((8300-B25)+D25) -> 3940 | P25: =O25/16 -> 246.25 | Q25: =P25*8 -> 1970 | R25: =((8300-B25)+F25) -> 1823 | U25: Women's 3 Year Cut Average
A26: Katie Rayner | B26: =VLOOKUP(A26,'Tournament Women Division'!$B$3:$W$21,16,) -> 8428 | C26: =VLOOKUP($A26,'Tournament Women Division'!$B$3:$W$21,17,) -> 4444 | D26: =B26-C26 -> 3984 | E26: =VLOOKUP(A26,'Tournament Women Division'!$B$3:$W$21, 18,) -> 6465 | F26: =B26-E26 -> 1963 | G26: =(($B$24-B26)+D26) -> 4388 | H26: =G26/16 -> 274.25 | I26: =H26*8 -> 2194 | J26: =(($B$2-B26)+F26) -> 2653 | K26: =($U$29-B26)+D26 -> 3775 | L26: =K26/16 -> 235.9375 | M26: =L26*8 -> 1887.5 | N26: =(($U$29-B26)+F26) -> 1754 | O26: =((8300-B26)+D26) -> 3856 | P26: =O26/16 -> 241 | Q26: =P26*8 -> 1928 | R26: =((8300-B26)+F26) -> 1835 | T26: 2018-2019 | U26: 8170
A27: Christine Pocza | B27: =VLOOKUP(A27,'Tournament Women Division'!$B$3:$W$21,16,) -> 8175 | C27: =VLOOKUP($A27,'Tournament Women Division'!$B$3:$W$21,17,) -> 4221 | D27: =B27-C27 -> 3954 | E27: =VLOOKUP(A27,'Tournament Women Division'!$B$3:$W$21, 18,) -> 6227 | F27: =B27-E27 -> 1948 | G27: =(($B$24-B27)+D27) -> 4611 | H27: =G27/16 -> 288.1875 | I27: =H27*8 -> 2305.5 | J27: =(($B$2-B27)+F27) -> 2891 | K27: =($U$29-B27)+D27 -> 3998 | L27: =K27/16 -> 249.875 | M27: =L27*8 -> 1999 | N27: =(($U$29-B27)+F27) -> 1992 | O27: =((8300-B27)+D27) -> 4079 | P27: =O27/16 -> 254.9375 | Q27: =P27*8 -> 2039.5 | R27: =((8300-B27)+F27) -> 2073 | T27: 2019-2020 | U27: 8293
A28: Diane Violini | B28: =VLOOKUP(A28,'Tournament Women Division'!$B$3:$W$21,16,) -> 8077 | C28: =VLOOKUP($A28,'Tournament Women Division'!$B$3:$W$21,17,) -> 4145 | D28: =B28-C28 -> 3932 | E28: =VLOOKUP(A28,'Tournament Women Division'!$B$3:$W$21, 18,) -> 6128 | F28: =B28-E28 -> 1949 | G28: =(($B$24-B28)+D28) -> 4687 | H28: =G28/16 -> 292.9375 | I28: =H28*8 -> 2343.5 | J28: =(($B$2-B28)+F28) -> 2990 | K28: =($U$29-B28)+D28 -> 4074 | L28: =K28/16 -> 254.625 | M28: =L28*8 -> 2037 | N28: =(($U$29-B28)+F28) -> 2091 | O28: =((8300-B28)+D28) -> 4155 | P28: =O28/16 -> 259.6875 | Q28: =P28*8 -> 2077.5 | R28: =((8300-B28)+F28) -> 2172 | T28: 2021-2022 | U28: 8194
A29: Jennifer Smith | B29: =VLOOKUP(A29,'Tournament Women Division'!$B$3:$W$21,16,) -> 8098 | C29: =VLOOKUP($A29,'Tournament Women Division'!$B$3:$W$21,17,) -> 4114 | D29: =B29-C29 -> 3984 | E29: =VLOOKUP(A29,'Tournament Women Division'!$B$3:$W$21, 18,) -> 6107 | F29: =B29-E29 -> 1991 | G29: =(($B$24-B29)+D29) -> 4718 | H29: =G29/16 -> 294.875 | I29: =H29*8 -> 2359 | J29: =(($B$2-B29)+F29) -> 3011 | K29: =($U$29-B29)+D29 -> 4105 | L29: =K29/16 -> 256.5625 | M29: =L29*8 -> 2052.5 | N29: =(($U$29-B29)+F29) -> 2112 | O29: =((8300-B29)+D29) -> 4186 | P29: =O29/16 -> 261.625 | Q29: =P29*8 -> 2093 | R29: =((8300-B29)+F29) -> 2193 | U29: =AVERAGE(U26:U28) -> 8219
A30: Bonnie McDonald | B30: =VLOOKUP(A30,'Tournament Women Division'!$B$3:$W$21,16,) -> 8335 | C30: =VLOOKUP($A30,'Tournament Women Division'!$B$3:$W$21,17,) -> 4371 | D30: =B30-C30 -> 3964 | E30: =VLOOKUP(A30,'Tournament Women Division'!$B$3:$W$21, 18,) -> 6374 | F30: =B30-E30 -> 1961 | G30: =(($B$24-B30)+D30) -> 4461 | H30: =G30/16 -> 278.8125 | I30: =H30*8 -> 2230.5 | J30: =(($B$2-B30)+F30) -> 2744 | K30: =($U$29-B30)+D30 -> 3848 | L30: =K30/16 -> 240.5 | M30: =L30*8 -> 1924 | N30: =(($U$29-B30)+F30) -> 1845 | O30: =((8300-B30)+D30) -> 3929 | P30: =O30/16 -> 245.5625 | Q30: =P30*8 -> 1964.5 | R30: =((8300-B30)+F30) -> 1926
A31: Jerilee Medus | B31: =VLOOKUP(A31,'Tournament Women Division'!$B$3:$W$21,16,) -> 8000 | C31: =VLOOKUP($A31,'Tournament Women Division'!$B$3:$W$21,17,) -> 4059 | D31: =B31-C31 -> 3941 | E31: =VLOOKUP(A31,'Tournament Women Division'!$B$3:$W$21, 18,) -> 6059 | F31: =B31-E31 -> 1941 | G31: =(($B$24-B31)+D31) -> 4773 | H31: =G31/16 -> 298.3125 | I31: =H31*8 -> 2386.5 | J31: =(($B$2-B31)+F31) -> 3059 | K31: =($U$29-B31)+D31 -> 4160 | L31: =K31/16 -> 260 | M31: =L31*8 -> 2080 | N31: =(($U$29-B31)+F31) -> 2160 | O31: =((8300-B31)+D31) -> 4241 | P31: =O31/16 -> 265.0625 | Q31: =P31*8 -> 2120.5 | R31: =((8300-B31)+F31) -> 2241
A32: Heidi Mapstone | B32: =VLOOKUP(A32,'Tournament Women Division'!$B$3:$W$21,16,) -> 8307 | C32: =VLOOKUP($A32,'Tournament Women Division'!$B$3:$W$21,17,) -> 4299 | D32: =B32-C32 -> 4008 | E32: =VLOOKUP(A32,'Tournament Women Division'!$B$3:$W$21, 18,) -> 6315 | F32: =B32-E32 -> 1992 | G32: =(($B$24-B32)+D32) -> 4533 | H32: =G32/16 -> 283.3125 | I32: =H32*8 -> 2266.5 | J32: =(($B$2-B32)+F32) -> 2803 | K32: =($U$29-B32)+D32 -> 3920 | L32: =K32/16 -> 245 | M32: =L32*8 -> 1960 | N32: =(($U$29-B32)+F32) -> 1904 | O32: =((8300-B32)+D32) -> 4001 | P32: =O32/16 -> 250.0625 | Q32: =P32*8 -> 2000.5 | R32: =((8300-B32)+F32) -> 1985
A33: Brittnee Lakusta | B33: =VLOOKUP(A33,'Tournament Women Division'!$B$3:$W$21,16,) -> 8125 | C33: =VLOOKUP($A33,'Tournament Women Division'!$B$3:$W$21,17,) -> 4169 | D33: =B33-C33 -> 3956 | E33: =VLOOKUP(A33,'Tournament Women Division'!$B$3:$W$21, 18,) -> 6173 | F33: =B33-E33 -> 1952 | G33: =(($B$24-B33)+D33) -> 4663 | H33: =G33/16 -> 291.4375 | I33: =H33*8 -> 2331.5 | J33: =(($B$2-B33)+F33) -> 2945 | K33: =($U$29-B33)+D33 -> 4050 | L33: =K33/16 -> 253.125 | M33: =L33*8 -> 2025 | N33: =(($U$29-B33)+F33) -> 2046 | O33: =((8300-B33)+D33) -> 4131 | P33: =O33/16 -> 258.1875 | Q33: =P33*8 -> 2065.5 | R33: =((8300-B33)+F33) -> 2127
A34: Michelle Manton | B34: =VLOOKUP(A34,'Tournament Women Division'!$B$3:$W$21,16,) -> 7927 | C34: =VLOOKUP($A34,'Tournament Women Division'!$B$3:$W$21,17,) -> 4055 | D34: =B34-C34 -> 3872 | E34: =VLOOKUP(A34,'Tournament Women Division'!$B$3:$W$21, 18,) -> 6058 | F34: =B34-E34 -> 1869 | G34: =(($B$24-B34)+D34) -> 4777 | H34: =G34/16 -> 298.5625 | I34: =H34*8 -> 2388.5 | J34: =(($B$2-B34)+F34) -> 3060 | K34: =($U$29-B34)+D34 -> 4164 | L34: =K34/16 -> 260.25 | M34: =L34*8 -> 2082 | N34: =(($U$29-B34)+F34) -> 2161 | O34: =((8300-B34)+D34) -> 4245 | P34: =O34/16 -> 265.3125 | Q34: =P34*8 -> 2122.5 | R34: =((8300-B34)+F34) -> 2242
A35: Bev Magnus | B35: =VLOOKUP(A35,'Tournament Women Division'!$B$3:$W$21,16,) -> 7751 | C35: =VLOOKUP($A35,'Tournament Women Division'!$B$3:$W$21,17,) -> 4005 | D35: =B35-C35 -> 3746 | E35: =VLOOKUP(A35,'Tournament Women Division'!$B$3:$W$21, 18,) -> 5904 | F35: =B35-E35 -> 1847 | G35: =(($B$24-B35)+D35) -> 4827 | H35: =G35/16 -> 301.6875 | I35: =H35*8 -> 2413.5 | J35: =(($B$2-B35)+F35) -> 3214 | K35: =($U$29-B35)+D35 -> 4214 | L35: =K35/16 -> 263.375 | M35: =L35*8 -> 2107 | N35: =(($U$29-B35)+F35) -> 2315 | O35: =((8300-B35)+D35) -> 4295 | P35: =O35/16 -> 268.4375 | Q35: =P35*8 -> 2147.5 | R35: =((8300-B35)+F35) -> 2396
A36: Tracy Smith | B36: =VLOOKUP(A36,'Tournament Women Division'!$B$3:$W$21,16,) -> 8128 | C36: =VLOOKUP($A36,'Tournament Women Division'!$B$3:$W$21,17,) -> 4274 | D36: =B36-C36 -> 3854 | E36: =VLOOKUP(A36,'Tournament Women Division'!$B$3:$W$21, 18,) -> 6208 | F36: =B36-E36 -> 1920 | G36: =(($B$24-B36)+D36) -> 4558 | H36: =G36/16 -> 284.875 | I36: =H36*8 -> 2279 | J36: =(($B$2-B36)+F36) -> 2910 | K36: =($U$29-B36)+D36 -> 3945 | L36: =K36/16 -> 246.5625 | M36: =L36*8 -> 1972.5 | N36: =(($U$29-B36)+F36) -> 2011 | O36: =((8300-B36)+D36) -> 4026 | P36: =O36/16 -> 251.625 | Q36: =P36*8 -> 2013 | R36: =((8300-B36)+F36) -> 2092
